BEGIN:VCALENDAR
VERSION:2.0
PRODID:-//Friendly Sons Of St. Patrick : San Diego - ECPv6.15.20//NONSGML v1.0//EN
CALSCALE:GREGORIAN
METHOD:PUBLISH
X-WR-CALNAME:Friendly Sons Of St. Patrick : San Diego
X-ORIGINAL-URL:https://friendlysonssd.org
X-WR-CALDESC:Events for Friendly Sons Of St. Patrick : San Diego
REFRESH-INTERVAL;VALUE=DURATION:PT1H
X-Robots-Tag:noindex
X-PUBLISHED-TTL:PT1H
BEGIN:VTIMEZONE
TZID:America/Los_Angeles
BEGIN:DAYLIGHT
TZOFFSETFROM:-0800
TZOFFSETTO:-0700
TZNAME:PDT
DTSTART:20240310T100000
END:DAYLIGHT
BEGIN:STANDARD
TZOFFSETFROM:-0700
TZOFFSETTO:-0800
TZNAME:PST
DTSTART:20241103T090000
END:STANDARD
BEGIN:DAYLIGHT
TZOFFSETFROM:-0800
TZOFFSETTO:-0700
TZNAME:PDT
DTSTART:20250309T100000
END:DAYLIGHT
BEGIN:STANDARD
TZOFFSETFROM:-0700
TZOFFSETTO:-0800
TZNAME:PST
DTSTART:20251102T090000
END:STANDARD
BEGIN:DAYLIGHT
TZOFFSETFROM:-0800
TZOFFSETTO:-0700
TZNAME:PDT
DTSTART:20260308T100000
END:DAYLIGHT
BEGIN:STANDARD
TZOFFSETFROM:-0700
TZOFFSETTO:-0800
TZNAME:PST
DTSTART:20261101T090000
END:STANDARD
BEGIN:DAYLIGHT
TZOFFSETFROM:-0800
TZOFFSETTO:-0700
TZNAME:PDT
DTSTART:20270314T100000
END:DAYLIGHT
BEGIN:STANDARD
TZOFFSETFROM:-0700
TZOFFSETTO:-0800
TZNAME:PST
DTSTART:20271107T090000
END:STANDARD
END:VTIMEZONE
BEGIN:VEVENT
DTSTART;TZID=America/Los_Angeles:20260213T110000
DTEND;TZID=America/Los_Angeles:20260213T150000
DTSTAMP:20260420T090245
CREATED:20260111T185059Z
LAST-MODIFIED:20260208T195745Z
UID:10000030-1770980400-1770994800@friendlysonssd.org
SUMMARY:Annual Membership Luncheon
DESCRIPTION:Annual Membership Luncheon\n			February 13\n	  @\n11:00 am\n	  –\n3:00 pm \n\n$80 – $90 \n	 \nJoin us for a pint and a song at our annual luncheon meeting and year end review. \nThis popular event is regularly sold out\, so get your tickets early! Fill your table with guests\, neighbors\, friends and family and enjoy what is sure to be another beautiful Friendly Sons day on the San Diego bay.  \nfeaturing \nTimmy Ford\nPlaying pre- and post-lunch \nProgram will include our Irishman of the Year Recipient\, State of the Club Update\, and more!  \nFSOSP Merchandise \nBranded merch available including clothing\, lapel pins\, and specialty items. Ron Stuart Clothing for green jackets\, blackthorn walking sticks\, and flat caps. \nNo Host Bar with Guinness station\nCigar Smoking Area\nFree Parking\nSOLD OUT as of February 8 • No Walk-Ins\nStandard tables of 8 \nAnnual Membership Dues must be paid to attend and to bring a guest. \nDress: Green Jacket Casual \n\n	« All Events\n \n					 \n\n			\n		Tom Ham’s Lighthouse			\n	\n\n2150 Harbor Island Dr\n		\n		San Diego\,\n	92101\n	United States\n\n\n	+ Google Map \n\n					\n			(619) 291-9110			\n	 \n\n	View Venue Website \n\n \n\n	Organizer\n\n			Dee Harmes	\n\n					\n			(760) 749-6555			\n	 \n\n\n					\n			dee.fsosp@gmail.com			\n	 \n\n	\n	Add to calendar	\n		\n	\n \n\n\n	Google Calendar\n\n\n	iCalendar\n\n\n	Outlook 365\n\n\n	Outlook Live\n\n\n\n\n\n\n				40th Annual Smilin’ Irishman Contest	\n\n\n	\n		The Miss Colleen Pageant
URL:https://friendlysonssd.org/event/annual-member-luncheon-2026/
LOCATION:Tom Ham’s Lighthouse\, 2150 Harbor Island Dr\, San Diego\, 92101\, United States
CATEGORIES:Social
ATTACH;FMTTYPE=image/webp:https://friendlysonssd.org/wp-content/uploads/2024/11/tom-ham.webp
ORGANIZER;CN="Dee Harmes":MAILTO:dee.fsosp@gmail.com
END:VEVENT
BEGIN:VEVENT
DTSTART;TZID=America/Los_Angeles:20250207T110000
DTEND;TZID=America/Los_Angeles:20250207T150000
DTSTAMP:20260420T090245
CREATED:20241123T221254Z
LAST-MODIFIED:20260129T204812Z
UID:10000005-1738926000-1738940400@friendlysonssd.org
SUMMARY:Annual Membership Luncheon
DESCRIPTION:Annual Member Luncheon\n			February 7\n	  @\n11:00 am\n	  –\n3:00 pm \n\n$75 – $85 \n	 \n201 Fine Gentlemen Gathering for a Pint and a Song\nJoin us at our annual luncheon meeting for the 2024 year end review. This year our guest speaker is Louis Jordan\, a local Irishman who was sponsored to the USA by Eunice Kennedy Shriver to compete as the Irish Champion Decathlete. Louis will share his incredible life story “It Could Happen to Anyone”.  \nSons merchandise will be available post and pre lunch as well as Ron Stuart Clothing for green jackets\, shillelaghs\, gas caps\, etc. Cigar smoking is welcome in the separate designated area. \nFill your table with guests\, neighbors\, friends and family and enjoy what is sure to be another beautiful Friendly Sons day on San Diego bay.  \nIndividual Tickets $75/pp\nAfter Jan 31 $80/pp  |  At Door $85/ppStandard Tables of Eight \nCredit Card online purchase »\nVenmo: @FriendlySons-StPatrick : List all guests in the memo w/meal choice\nPay by Check: Fill out the form below and mail with your checkMake your check out to FSOSP and mail your reservation directly to:P.O. Box 1595 Valley Center\, CA 92082 \nCheck must be received by February 3\, 2025 \n																														 \n\n	« All Events\n \n					 \n\n			\n		Tom Ham’s Lighthouse			\n	\n\n2150 Harbor Island Dr\n		\n		San Diego\,\n	92101\n	United States\n\n\n	+ Google Map \n\n					\n			(619) 291-9110			\n	 \n\n	View Venue Website \n\n \n\n	Organizer\n\n			Dee Harmes	\n\n					\n			(760) 749-6555			\n	 \n\n					\n			dee.fsosp@gmail.com			\n	 \n\n	\n	Add to calendar	\n		\n	\n \n\n\n	Google Calendar\n\n\n	iCalendar\n\n\n	Outlook 365\n\n\n	Outlook Live\n\n\n\n\n\n\n				39th Annual Smilin’ Irishman Contest	\n\n\n	\n		The Miss Colleen Pageant
URL:https://friendlysonssd.org/event/annual-member-luncheon/
LOCATION:Tom Ham’s Lighthouse\, 2150 Harbor Island Dr\, San Diego\, 92101\, United States
CATEGORIES:Social
ATTACH;FMTTYPE=image/webp:https://friendlysonssd.org/wp-content/uploads/2024/11/tom-ham.webp
ORGANIZER;CN="Dee Harmes":MAILTO:dee.fsosp@gmail.com
END:VEVENT
END:VCALENDAR