BEGIN:VCALENDAR
VERSION:2.0
PRODID:-//Friendly Sons Of St. Patrick : San Diego - ECPv6.15.20//NONSGML v1.0//EN
CALSCALE:GREGORIAN
METHOD:PUBLISH
X-ORIGINAL-URL:https://friendlysonssd.org
X-WR-CALDESC:Events for Friendly Sons Of St. Patrick : San Diego
REFRESH-INTERVAL;VALUE=DURATION:PT1H
X-Robots-Tag:noindex
X-PUBLISHED-TTL:PT1H
BEGIN:VTIMEZONE
TZID:America/Los_Angeles
BEGIN:DAYLIGHT
TZOFFSETFROM:-0800
TZOFFSETTO:-0700
TZNAME:PDT
DTSTART:20240310T100000
END:DAYLIGHT
BEGIN:STANDARD
TZOFFSETFROM:-0700
TZOFFSETTO:-0800
TZNAME:PST
DTSTART:20241103T090000
END:STANDARD
BEGIN:DAYLIGHT
TZOFFSETFROM:-0800
TZOFFSETTO:-0700
TZNAME:PDT
DTSTART:20250309T100000
END:DAYLIGHT
BEGIN:STANDARD
TZOFFSETFROM:-0700
TZOFFSETTO:-0800
TZNAME:PST
DTSTART:20251102T090000
END:STANDARD
BEGIN:DAYLIGHT
TZOFFSETFROM:-0800
TZOFFSETTO:-0700
TZNAME:PDT
DTSTART:20260308T100000
END:DAYLIGHT
BEGIN:STANDARD
TZOFFSETFROM:-0700
TZOFFSETTO:-0800
TZNAME:PST
DTSTART:20261101T090000
END:STANDARD
END:VTIMEZONE
BEGIN:VEVENT
DTSTART;TZID=America/Los_Angeles:20250913T170000
DTEND;TZID=America/Los_Angeles:20250913T210000
DTSTAMP:20260420T102854
CREATED:20250517T002734Z
LAST-MODIFIED:20250901T233830Z
UID:10000020-1757782800-1757797200@friendlysonssd.org
SUMMARY:Olde Fashioned Irish Wake and Half Way to St. Patrick’s Day Party
DESCRIPTION:Olde Fashioned Irish Wake and Half Way to St. Patrick’s Day Party\n			September 13\n	  @\n5:00 pm\n	  –\n9:00 pm \n\n$20 \n	 \n Irish music • Sing-Alongs • Eulogies • Irish Stories • Raffleand discounted drink specials\n																														 \nAlthough every day is an Irish Day\, this is the day that we start counting down to THE DAY. We’ll mourn those who’ve passed\, and celebrate our brethren in the ways we know best. Tune your ears\, whet your appetites\, and prepare those Irish Eyes for smilin’\, lads\, for there’ll be memories to be made! \nSpecial performance by Timmy Ford\nDress is Green Jacket Casual. \nPURCHASE TICKETS IN ADVANCE(also available at the door) \n\n \n\nName(Required)\n                                                    First\n                                                    \n                                                            Last\n                                                            \n                        \nEmail\n                            \n                        PhoneSingle Ticket: Quantity\n					\n						Price:\n						$20.00\n					\n					 Quantity \n				Couples Ticket: Quantity\n					\n						Price:\n						$30.00\n					\n					 Quantity \n				Credit Card Processing Fee:\n					\n						Price:\n						$0.00\n					\n					\n				Subtotal\n                $0.00\n                \n            Amount to be charged to your credit card:\n							 \n\nCredit Card\n						Cardholder Name\n						Card Details\n				\nCAPTCHA\n         \n            \n            \n            \n            \n            \n            \n            \n            \n            \n            \n                        \n\n	« All Events\n \n					 \n\n			\n		The Ould Sod			\n	\n\n3373 Adams Ave\n		\n		San Diego\,\n	CA\n	92116\n	United States\n\n\n	+ Google Map \n\n					\n			(619) 284-6594			\n	 \n\n	View Venue Website \n\n \n\n	Organizer\n\n			Dee Harmes	\n\n					\n			(760) 749-6555			\n	 \n\n\n					\n			dee.fsosp@gmail.com			\n	 \n\n	\n	Add to calendar	\n		\n	\n \n\n\n	Google Calendar\n\n\n	iCalendar\n\n\n	Outlook 365\n\n\n	Outlook Live\n\n\n\n\n\n\n				Irish O’Pen Golf Tournament	\n\n\n	\n		Veteran’s Day Parade
URL:https://friendlysonssd.org/event/olde-fashioned-irish-wake-and-half-way-to-st-patricks-day-party/
LOCATION:The Ould Sod\, 3373 Adams Ave\, San Diego\, CA\, 92116\, United States
CATEGORIES:Fundraising
ATTACH;FMTTYPE=image/webp:https://friendlysonssd.org/wp-content/uploads/2025/05/wake.webp
ORGANIZER;CN="Dee Harmes":MAILTO:dee.fsosp@gmail.com
END:VEVENT
BEGIN:VEVENT
DTSTART;TZID=America/Los_Angeles:20250613T170000
DTEND;TZID=America/Los_Angeles:20250613T200000
DTSTAMP:20260420T102854
CREATED:20250523T223918Z
LAST-MODIFIED:20250523T230200Z
UID:10000022-1749834000-1749844800@friendlysonssd.org
SUMMARY:Meet The New Members Social
DESCRIPTION:Meet The New Members Social\n			June 13\n	  @\n5:00 pm\n	  –\n8:00 pm \n\nFree \n	 \nThe Ould Sod\nFriday\, June 13 • 5-8pm\nALL MEMBERS\nJoin us to welcome our newest members and meet Barley & the Sword Brewing Companya North Park veteran owned business and purveyor of fine ales. \n2025 New Members: First beer is on us!Find a FSOSP Board member and he’ll get your first pint. \nClash of the Ash Irish Lager is a collaboration with San Diego’s newest Hurling team\, the Rovers. \nHappy Hour pricing on Guiness: $5. Full bar open in the back. We look forward to raising a pint with you! \n																\n															\n																\n															\n																\n															\n																														 \nMeet the Brewers!\nIf attending\, please RSVP \n\n \n\nName(Required)\n                                                    First\n                                                    \n                                                            Last\n                                                            \n                        \nEmail(Required)\n                            \n                        CAPTCHA\n         \n            \n            \n            \n            \n            \n            \n            \n            \n            \n            \n                        \n\n	« All Events\n \n					 \n\n			\n		The Ould Sod			\n	\n\n3373 Adams Ave\n		\n		San Diego\,\n	CA\n	92116\n	United States\n\n\n	+ Google Map \n\n					\n			(619) 284-6594			\n	 \n\n	View Venue Website \n\n \n\n	Organizer\n\n			Dee Harmes	\n\n					\n			(760) 749-6555			\n	 \n\n\n					\n			dee.fsosp@gmail.com			\n	 \n\n	\n	Add to calendar	\n		\n	\n \n\n\n	Google Calendar\n\n\n	iCalendar\n\n\n	Outlook 365\n\n\n	Outlook Live\n\n\n\n\n\n\n				Mt. Soledad National Veterans Memorial: Memorial Day Ceremony	\n\n\n	\n		Over The Line (OTL) Tournament Weekend 1
URL:https://friendlysonssd.org/event/meet-the-new-members-social/
LOCATION:The Ould Sod\, 3373 Adams Ave\, San Diego\, CA\, 92116\, United States
CATEGORIES:Social
ATTACH;FMTTYPE=image/webp:https://friendlysonssd.org/wp-content/uploads/2025/05/17th-of-the-Month-banner-scaled.webp
ORGANIZER;CN="Dee Harmes":MAILTO:dee.fsosp@gmail.com
END:VEVENT
END:VCALENDAR