BEGIN:VCALENDAR
VERSION:2.0
PRODID:-//Friendly Sons Of St. Patrick : San Diego - ECPv6.15.20//NONSGML v1.0//EN
CALSCALE:GREGORIAN
METHOD:PUBLISH
X-WR-CALNAME:Friendly Sons Of St. Patrick : San Diego
X-ORIGINAL-URL:https://friendlysonssd.org
X-WR-CALDESC:Events for Friendly Sons Of St. Patrick : San Diego
REFRESH-INTERVAL;VALUE=DURATION:PT1H
X-Robots-Tag:noindex
X-PUBLISHED-TTL:PT1H
BEGIN:VTIMEZONE
TZID:America/Los_Angeles
BEGIN:DAYLIGHT
TZOFFSETFROM:-0800
TZOFFSETTO:-0700
TZNAME:PDT
DTSTART:20240310T100000
END:DAYLIGHT
BEGIN:STANDARD
TZOFFSETFROM:-0700
TZOFFSETTO:-0800
TZNAME:PST
DTSTART:20241103T090000
END:STANDARD
BEGIN:DAYLIGHT
TZOFFSETFROM:-0800
TZOFFSETTO:-0700
TZNAME:PDT
DTSTART:20250309T100000
END:DAYLIGHT
BEGIN:STANDARD
TZOFFSETFROM:-0700
TZOFFSETTO:-0800
TZNAME:PST
DTSTART:20251102T090000
END:STANDARD
BEGIN:DAYLIGHT
TZOFFSETFROM:-0800
TZOFFSETTO:-0700
TZNAME:PDT
DTSTART:20260308T100000
END:DAYLIGHT
BEGIN:STANDARD
TZOFFSETFROM:-0700
TZOFFSETTO:-0800
TZNAME:PST
DTSTART:20261101T090000
END:STANDARD
END:VTIMEZONE
BEGIN:VEVENT
DTSTART;TZID=America/Los_Angeles:20251111T100000
DTEND;TZID=America/Los_Angeles:20251111T130000
DTSTAMP:20260420T163628
CREATED:20250309T174900Z
LAST-MODIFIED:20251110T195450Z
UID:10000014-1762855200-1762866000@friendlysonssd.org
SUMMARY:Veterans Day Parade
DESCRIPTION:Veterans Day Parade\n			November 11\n	  @\n10:00 am\n	  –\n1:00 pm \n\nFree \n	 \nMarch with the Sons\nPre-staging festivities start at at 7:00 am for breakfast at the Waterfront Bar & Grill • 2044 Kettner Blvd San Diego  \nParade staging begins at 9:30 am on Harbor Drive (in front of the County Admin Bldg). \nFSOSP Staging Area: Marshall Area 2\, Section 18A \n Parade starts promptly at 10:00 am. \nWe will march\, sing\, and perform our walking stick drill the length of the parade route shown here. \nAt the end of the parade\, we will walk back directly to the Waterfront Bar & Grill for a no-host afterparty for drinks and food. \nFull parade dress attire. Green Blazers\, White Shirts\, Dark Slacks\, Flat Caps\, Ties and Blackthorn Walking Sticks (see Members section for dress and songs). \nhttps://youtu.be/Lm8lohWDw1g \nFriendly Sons at 47:45 \n																\n															\n					\n									More About The Parade\n					\n					 \nParade Sign-Up\nIf you plan to march\, please sign-up below so we have a head count for the parade and related activities. Slainte! \n\n\n \n\nName(Required)\n                                                    First\n                                                    \n                                                            Last\n                                                            \n                        \nEmail\n                            \n                        PhoneMessageAnything you’d like to add?CAPTCHA\n         \n            \n            \n            \n            \n            \n            \n            \n            \n            \n            \n                        \n\n	« All Events\n \n					 \n\n			\n		North Harbor Drive			\n	\n\n1600 Pacific Hwy\n		\n		San Diego\,\n	CA\n	92101\n	United States\n\n\n	+ Google Map \n\n					\n						\n	 \n\n	View Venue Website \n\n \n\n	Organizer\n\n			Dee Harmes	\n\n					\n			(760) 749-6555			\n	 \n\n\n					\n			dee.fsosp@gmail.com			\n	 \n\n	\n	Add to calendar	\n		\n	\n \n\n\n	Google Calendar\n\n\n	iCalendar\n\n\n	Outlook 365\n\n\n	Outlook Live\n\n\n\n\n\n\n				Mt. Soledad National Veterans Memorial – Veterans Day Ceremony	\n\n\n	\n		17th of the Month Club : Barley & Sword
URL:https://friendlysonssd.org/event/veterans-day-parade/
LOCATION:North Harbor Drive\, 1600 Pacific Hwy\, San Diego\, CA\, 92101\, United States
CATEGORIES:Parade
ATTACH;FMTTYPE=image/jpeg:https://friendlysonssd.org/wp-content/uploads/2025/03/FSOSP-Vet-Day3.jpg
ORGANIZER;CN="Dee Harmes":MAILTO:dee.fsosp@gmail.com
END:VEVENT
END:VCALENDAR