BEGIN:VCALENDAR
VERSION:2.0
PRODID:-//Friendly Sons Of St. Patrick : San Diego - ECPv6.15.20//NONSGML v1.0//EN
CALSCALE:GREGORIAN
METHOD:PUBLISH
X-ORIGINAL-URL:https://friendlysonssd.org
X-WR-CALDESC:Events for Friendly Sons Of St. Patrick : San Diego
REFRESH-INTERVAL;VALUE=DURATION:PT1H
X-Robots-Tag:noindex
X-PUBLISHED-TTL:PT1H
BEGIN:VTIMEZONE
TZID:America/Los_Angeles
BEGIN:DAYLIGHT
TZOFFSETFROM:-0800
TZOFFSETTO:-0700
TZNAME:PDT
DTSTART:20240310T100000
END:DAYLIGHT
BEGIN:STANDARD
TZOFFSETFROM:-0700
TZOFFSETTO:-0800
TZNAME:PST
DTSTART:20241103T090000
END:STANDARD
BEGIN:DAYLIGHT
TZOFFSETFROM:-0800
TZOFFSETTO:-0700
TZNAME:PDT
DTSTART:20250309T100000
END:DAYLIGHT
BEGIN:STANDARD
TZOFFSETFROM:-0700
TZOFFSETTO:-0800
TZNAME:PST
DTSTART:20251102T090000
END:STANDARD
BEGIN:DAYLIGHT
TZOFFSETFROM:-0800
TZOFFSETTO:-0700
TZNAME:PDT
DTSTART:20260308T100000
END:DAYLIGHT
BEGIN:STANDARD
TZOFFSETFROM:-0700
TZOFFSETTO:-0800
TZNAME:PST
DTSTART:20261101T090000
END:STANDARD
END:VTIMEZONE
BEGIN:VEVENT
DTSTART;TZID=America/Los_Angeles:20250719T080000
DTEND;TZID=America/Los_Angeles:20250720T170000
DTSTAMP:20260420T120145
CREATED:20250309T173952Z
LAST-MODIFIED:20250706T185552Z
UID:10000013-1752912000-1753030800@friendlysonssd.org
SUMMARY:Over The Line (OTL) Tournament Weekend 2
DESCRIPTION:Over The Line (OTL) Tournament Weekend 2\n			July 19\n	  @\n8:00 am\n	  –\n	July 20\n	  @\n5:00 pm \n\nFree \n	 \nOTL with the Sons\nThe Irish compound will be rockin’ all weekend. Free food and drinks will be provided for members and their guests. This year’s event will be bigger and better than ever! \nThe OTL Tournament starts at 7:30 am each day. The compound is open from 8am-5pm. Music under the tent will be from 1-4 pm\, food and drinks served throughout the day. \nEntertainment Saturday:Ass Pocket Whiskey Fellows 12-4 PM \nThe compound is located on the northwest end of the playing fields…look for the FSOSP banners and pop-ups. \nTournament is open to the Public: no ticket or entrance fee to watch the games. Reminder: No glass containers on the sand. \n\n											\n															Ass Pocket Whiskey Fellas\n																\n															\n					\n									More About OTL\n					\n					\n									PArking Info\n					 \n\n	« All Events\n \n					 \n\n			\n		Fiesta Island			\n	\n\n1519 Fiesta Island Rd\n		\n		SAN DIEGO\,\n	92109\n	United States\n\n\n	+ Google Map \n\n					\n						\n	 \n\n	View Venue Website \n\n \n\n	Organizer\n\n			Dee Harmes	\n\n					\n			(760) 749-6555			\n	 \n\n\n					\n			dee.fsosp@gmail.com			\n	 \n\n	\n	Add to calendar	\n		\n	\n \n\n\n	Google Calendar\n\n\n	iCalendar\n\n\n	Outlook 365\n\n\n	Outlook Live\n\n\n\n\n\n\n				Irish Heritage Padres Baseball Game	\n\n\n	\n		Day at the Races
URL:https://friendlysonssd.org/event/over-the-line-otl-tournament-weekend-2/
LOCATION:Fiesta Island\, 1519 Fiesta Island Rd\, SAN DIEGO\, 92109\, United States
CATEGORIES:Social
ATTACH;FMTTYPE=image/jpeg:https://friendlysonssd.org/wp-content/uploads/2025/03/IMG_6275.jpg
ORGANIZER;CN="Dee Harmes":MAILTO:dee.fsosp@gmail.com
END:VEVENT
BEGIN:VEVENT
DTSTART;TZID=America/Los_Angeles:20250712T080000
DTEND;TZID=America/Los_Angeles:20250713T170000
DTSTAMP:20260420T120145
CREATED:20250309T173432Z
LAST-MODIFIED:20250706T185644Z
UID:10000012-1752307200-1752426000@friendlysonssd.org
SUMMARY:Over The Line (OTL) Tournament Weekend 1
DESCRIPTION:Over The Line (OTL) Tournament Weekend 1\n			July 12\n	  @\n8:00 am\n	  –\n	July 13\n	  @\n5:00 pm \n\nFree \n	 \nOTL with the Sons\nThe Irish compound will be rockin’ all weekend. Free food and drinks will be provided for members and their guests. This year’s event will be bigger and better than ever! \nThe OTL Tournament starts at 7:30 am each day. The compound is open from 8am-5pm. Music under the tent will be from 1-4 pm\, food and drinks served throughout the day. \nEntertainment Saturday: The Fooks 1-4 PM \nThe compound is located on the northwest end of the playing fields…look for the FSOSP banners and pop-ups. \nTournament is open to the Public: no ticket or entrance fee to watch the games. Reminder: No glass containers on the sand. \n\n											\n															The Fooks\n																\n															\n					\n									More About OTL\n					\n					\n									PArking Info\n					 \n\n	« All Events\n \n					 \n\n			\n		Fiesta Island			\n	\n\n1519 Fiesta Island Rd\n		\n		SAN DIEGO\,\n	92109\n	United States\n\n\n	+ Google Map \n\n					\n						\n	 \n\n	View Venue Website \n\n \n\n	Organizer\n\n			Dee Harmes	\n\n					\n			(760) 749-6555			\n	 \n\n\n					\n			dee.fsosp@gmail.com			\n	 \n\n	\n	Add to calendar	\n		\n	\n \n\n\n	Google Calendar\n\n\n	iCalendar\n\n\n	Outlook 365\n\n\n	Outlook Live\n\n\n\n\n\n\n				Meet The New Members Social	\n\n\n	\n		Irish Heritage Padres Baseball Game
URL:https://friendlysonssd.org/event/over-the-line-otl-tournament-weekend-1/
LOCATION:Fiesta Island\, 1519 Fiesta Island Rd\, SAN DIEGO\, 92109\, United States
CATEGORIES:Social
ATTACH;FMTTYPE=image/jpeg:https://friendlysonssd.org/wp-content/uploads/2025/03/IMG_6275.jpg
ORGANIZER;CN="Dee Harmes":MAILTO:dee.fsosp@gmail.com
END:VEVENT
END:VCALENDAR