BEGIN:VCALENDAR
VERSION:2.0
PRODID:-//Friendly Sons Of St. Patrick : San Diego - ECPv6.15.20//NONSGML v1.0//EN
CALSCALE:GREGORIAN
METHOD:PUBLISH
X-WR-CALNAME:Friendly Sons Of St. Patrick : San Diego
X-ORIGINAL-URL:https://friendlysonssd.org
X-WR-CALDESC:Events for Friendly Sons Of St. Patrick : San Diego
REFRESH-INTERVAL;VALUE=DURATION:PT1H
X-Robots-Tag:noindex
X-PUBLISHED-TTL:PT1H
BEGIN:VTIMEZONE
TZID:America/Los_Angeles
BEGIN:DAYLIGHT
TZOFFSETFROM:-0800
TZOFFSETTO:-0700
TZNAME:PDT
DTSTART:20240310T100000
END:DAYLIGHT
BEGIN:STANDARD
TZOFFSETFROM:-0700
TZOFFSETTO:-0800
TZNAME:PST
DTSTART:20241103T090000
END:STANDARD
BEGIN:DAYLIGHT
TZOFFSETFROM:-0800
TZOFFSETTO:-0700
TZNAME:PDT
DTSTART:20250309T100000
END:DAYLIGHT
BEGIN:STANDARD
TZOFFSETFROM:-0700
TZOFFSETTO:-0800
TZNAME:PST
DTSTART:20251102T090000
END:STANDARD
BEGIN:DAYLIGHT
TZOFFSETFROM:-0800
TZOFFSETTO:-0700
TZNAME:PDT
DTSTART:20260308T100000
END:DAYLIGHT
BEGIN:STANDARD
TZOFFSETFROM:-0700
TZOFFSETTO:-0800
TZNAME:PST
DTSTART:20261101T090000
END:STANDARD
END:VTIMEZONE
BEGIN:VEVENT
DTSTART;TZID=America/Los_Angeles:20250808T160000
DTEND;TZID=America/Los_Angeles:20250808T190000
DTSTAMP:20260420T163402
CREATED:20250517T010623Z
LAST-MODIFIED:20250622T004212Z
UID:10000021-1754668800-1754679600@friendlysonssd.org
SUMMARY:Day at the Races
DESCRIPTION:Day at the Races\nAugust 8\n@\n3:00 pm\n–\n7:00 pm\n \nGet Your Four O’clock Friday Feeling\nWhere the Turf Meets the Surf at Del Mar!\nDon’t miss your opportunity to don your green blazer and sing “Where the Turf Meets the Surf” and “When Irish Eyes are Smiling” on the racetrack in front of the stands! \nOutdoor\, shaded seating on the second level with a “lively” view of the track. Snag your favorite table\, test your Irish luck on the ponies\, and throw back some libations with your fellow Sons! \nLimited number of seats available. Tables for 4 may be purchased. Tickets sell out quickly! \nThe Del Mar Turf Club – Clubhouse Terrace Restaurant\n2pm Gates Open • 4pm 1st Post\n  \n\n \nGet Your Seat\nPlease set the Quantity number to you + the number of guests you are paying for\, then enter their information below. If only you\, select 1 in Quantity. Includes credit card convenience fee.Quantity(Required)Online Purchase(Required)\n\nPrice:\n \n\nFull Name(Required)\nFirst\n\nLast\n\nEmail(Required)\n\nPhoneIf paying for only yourself\, are you sitting at someone else’s table?Leave blank to have the option to sit at any open seat upon arrival. \nAdditional Guests at your Table\nTables of FourGuest 1Guest 2Guest 3 \nPayment\nTotal\n \n\nCredit Card(Required)\nCardholder Name\nCard Details\nCAPTCHA\n\n\n\n\n\n\n\n\n\n\n \n\n« All Events \n  \n\nDel Mar Race Track \n2260 Jimmy Durante BlvdDel Mar\,\nCA\n92014\nUnited States \n\n+ Google Map \n\n(858) 755-1141  \nView Venue Website \n\n \nOrganizer\nDee Harmes\n\n(760) 749-6555  \n\ndee.fsosp@gmail.com  \n\n\nAdd to calendar \n  \n\nGoogle Calendar\niCalendar\nOutlook 365\nOutlook Live\n\n\n\n\nOver The Line (OTL) Tournament Weekend 2 \n\nIrish O’Pen Golf Tournament
URL:https://friendlysonssd.org/event/day-at-the-races/
LOCATION:Del Mar Race Track\, 2260 Jimmy Durante Blvd\, Del Mar\, CA\, 92014\, United States
CATEGORIES:Social
ATTACH;FMTTYPE=image/webp:https://friendlysonssd.org/wp-content/uploads/2025/06/del-mar.webp
ORGANIZER;CN="Dee Harmes":MAILTO:dee.fsosp@gmail.com
END:VEVENT
END:VCALENDAR