BEGIN:VCALENDAR
VERSION:2.0
PRODID:-//Friendly Sons Of St. Patrick : San Diego - ECPv6.15.20//NONSGML v1.0//EN
CALSCALE:GREGORIAN
METHOD:PUBLISH
X-ORIGINAL-URL:https://friendlysonssd.org
X-WR-CALDESC:Events for Friendly Sons Of St. Patrick : San Diego
REFRESH-INTERVAL;VALUE=DURATION:PT1H
X-Robots-Tag:noindex
X-PUBLISHED-TTL:PT1H
BEGIN:VTIMEZONE
TZID:America/Los_Angeles
BEGIN:DAYLIGHT
TZOFFSETFROM:-0800
TZOFFSETTO:-0700
TZNAME:PDT
DTSTART:20240310T100000
END:DAYLIGHT
BEGIN:STANDARD
TZOFFSETFROM:-0700
TZOFFSETTO:-0800
TZNAME:PST
DTSTART:20241103T090000
END:STANDARD
BEGIN:DAYLIGHT
TZOFFSETFROM:-0800
TZOFFSETTO:-0700
TZNAME:PDT
DTSTART:20250309T100000
END:DAYLIGHT
BEGIN:STANDARD
TZOFFSETFROM:-0700
TZOFFSETTO:-0800
TZNAME:PST
DTSTART:20251102T090000
END:STANDARD
BEGIN:DAYLIGHT
TZOFFSETFROM:-0800
TZOFFSETTO:-0700
TZNAME:PDT
DTSTART:20260308T100000
END:DAYLIGHT
BEGIN:STANDARD
TZOFFSETFROM:-0700
TZOFFSETTO:-0800
TZNAME:PST
DTSTART:20261101T090000
END:STANDARD
END:VTIMEZONE
BEGIN:VEVENT
DTSTART;TZID=America/Los_Angeles:20251121T170000
DTEND;TZID=America/Los_Angeles:20251121T200000
DTSTAMP:20260420T133314
CREATED:20251018T005310Z
LAST-MODIFIED:20251027T235141Z
UID:10000028-1763744400-1763755200@friendlysonssd.org
SUMMARY:17th of the Month Club : Barley & Sword
DESCRIPTION:17th of the Month Club : Barley & Sword\n			November 21\n	  @\n5:00 pm\n	  –\n8:00 pm \n\nFree \n	 \nJoin us for an evening of good fellowship and good beer!\nMeet new members\, visit with old friends\, celebrate a great year! This edition of the 17th of the Month Club meets at one of San Diego’s hottest new breweries\, Barley & Sword. \nOpened by U.S. Navy veteran Mike Howell\, Barley & Sword has been a standout by brewing Old World styles of beer from the U.K.\, Ireland and Germany. They are also award winners: Best of Craft Beer Awards\, California State Fair and San Diego County Fair Craft Brew Competition. \nView their current offerings here: barleyandsword.com/menu \nAnd in case you missed it at the last 17OTMC\, the delicious Clash of the Ash Irish Lager is a collaboration with San Diego’s newest Hurling team\, the Rovers. \nCome by for a pint with your fellow Sons. Support Doc Monley\, our Smilin’ Irishman candidate\, and support this fine brewery. \nDRINK SPECIALS + MEET DOC MONLEY\n															\n																\n															 \nPlease RSVP so we can get a head count. Thanks.\n\n\n \n\nName(Required)\n                                                    First\n                                                    \n                                                            Last\n                                                            \n                        \nEmail(Required)\n                            \n                        CAPTCHA\n         \n            \n            \n            \n            \n            \n            \n            \n            \n            \n            \n                        \n\n	« All Events\n \n					 \n\n			\n		Barley & Sword Brewing Company			\n	\n\n3052 El Cajon Blvd Ste 102\n		\n		San Diego\,\n	CA\n	92104\n	United States\n\n\n	+ Google Map \n\n					\n			(619) 633-7832			\n	 \n\n	View Venue Website \n\n \n\n	Organizer\n\n			Dee Harmes	\n\n					\n			(760) 749-6555			\n	 \n\n\n					\n			dee.fsosp@gmail.com			\n	 \n\n	\n	Add to calendar	\n		\n	\n \n\n\n	Google Calendar\n\n\n	iCalendar\n\n\n	Outlook 365\n\n\n	Outlook Live\n\n\n\n\n\n\n				Veterans Day Parade	\n\n\n	\n		Ocean Beach Holiday Parade & Afterparty
URL:https://friendlysonssd.org/event/17th-of-the-month-club-barley-sword/
LOCATION:Barley & Sword Brewing Company\, 3052 El Cajon Blvd Ste 102\, San Diego\, CA\, 92104\, United States
CATEGORIES:Social
ATTACH;FMTTYPE=image/webp:https://friendlysonssd.org/wp-content/uploads/2025/05/17th-of-the-Month-banner-scaled.webp
ORGANIZER;CN="Dee Harmes":MAILTO:dee.fsosp@gmail.com
END:VEVENT
END:VCALENDAR