BEGIN:VCALENDAR
VERSION:2.0
PRODID:-//Friendly Sons Of St. Patrick : San Diego - ECPv6.15.20//NONSGML v1.0//EN
CALSCALE:GREGORIAN
METHOD:PUBLISH
X-WR-CALNAME:Friendly Sons Of St. Patrick : San Diego
X-ORIGINAL-URL:https://friendlysonssd.org
X-WR-CALDESC:Events for Friendly Sons Of St. Patrick : San Diego
REFRESH-INTERVAL;VALUE=DURATION:PT1H
X-Robots-Tag:noindex
X-PUBLISHED-TTL:PT1H
BEGIN:VTIMEZONE
TZID:America/Los_Angeles
BEGIN:DAYLIGHT
TZOFFSETFROM:-0800
TZOFFSETTO:-0700
TZNAME:PDT
DTSTART:20240310T100000
END:DAYLIGHT
BEGIN:STANDARD
TZOFFSETFROM:-0700
TZOFFSETTO:-0800
TZNAME:PST
DTSTART:20241103T090000
END:STANDARD
BEGIN:DAYLIGHT
TZOFFSETFROM:-0800
TZOFFSETTO:-0700
TZNAME:PDT
DTSTART:20250309T100000
END:DAYLIGHT
BEGIN:STANDARD
TZOFFSETFROM:-0700
TZOFFSETTO:-0800
TZNAME:PST
DTSTART:20251102T090000
END:STANDARD
BEGIN:DAYLIGHT
TZOFFSETFROM:-0800
TZOFFSETTO:-0700
TZNAME:PDT
DTSTART:20260308T100000
END:DAYLIGHT
BEGIN:STANDARD
TZOFFSETFROM:-0700
TZOFFSETTO:-0800
TZNAME:PST
DTSTART:20261101T090000
END:STANDARD
END:VTIMEZONE
BEGIN:VEVENT
DTSTART;TZID=America/Los_Angeles:20250823T070000
DTEND;TZID=America/Los_Angeles:20250823T160000
DTSTAMP:20260420T165233
CREATED:20250516T220555Z
LAST-MODIFIED:20250812T170412Z
UID:10000019-1755932400-1755964800@friendlysonssd.org
SUMMARY:Irish O’Pen Golf Tournament
DESCRIPTION:Irish O’Pen Golf Tournament\nAugust 23\n@\n7:00 am\n–\n2:00 pm \n$150 \n \nThe Annual Irish O’Pen Golf Tournament Fundraiser\nAugust 23 • Admiral Baker Golf Course\nThe Irish O’pen golf outing is the fundraiser for our Memorial Scholarship Fund at the University of San Diego. The fund provides scholarships to deserving and qualified undergraduate students at USD who are studying abroad in Ireland. \nOnce again it will be held at the beautiful Admiral Baker Golf Course – a  perfect\, central location with fast greens! An early start time guarantees a competitive morning before a delicious buffet lunch. \nPrizes awarded for: \nClosest to the Pin : 3 Different Hole Opportunities to Win!\nLongest Drive\nChampionship Team \nRaffle Opportunities \nView prize table before and after your round of golf. Purchase tickets at event to be entered! \nEntry Fee $150 pp until August 10\nAfter August 10: $175 pp  |  Registration closes midnight 8/17\nFee includes: golf fees\, cart\, lunch\, and drinks on the course. \nCheck-In Challenge: $100 per foursome: includes 1 mulligan per player\nMulligans: 1 for $10 or 3 for $25\n(add on purchase at check-in; not included with registrations) \nCheck-in 7am • Tee Off 8am\n\nPurchase Entry Fee\n \nSponsorship Opportunities\nHave your business seen by dozens of golfers at our annual event. And depending on sponsorship level\, thousands on social media\, direct mail\, and this website. Our membership is comprised of lawyers\, doctors\, military\, and professionals in technology\, real estate\, manufacturing\, finance\, marketing\, and more. \nSponsor donations may be tax deductible. Please consult with your accountant. \nSponsorship packages available: \nTournament Sponsor\n$5\,000.00 \n\nGreens fees for your foursome\nFour mulligans included (1 pp)\nNamed as official sponsor on all marketing\nOption to set up display on course\nLogo on event page on our website\nLogo on printed sponsor event banner\nHole signage recognition\nOption for short introduction at the luncheon\nRecognition on social media channels\nLogo and link on our website for entire year\n\nGolf Ball Sponsor\n$2\,000.00 \n\nGreens fees for two players\nTwo mulligans included (1 pp)\nYour logo printed on premium brand golf balls used in the tournament and as prizes\nLogo on event page on our website\nLogo on printed sponsor event banner\nRecognition on social media channels\nLogo and link on our website for entire year\n\nTowel Sponsor\n$1\,500.00 \n\nGreens fees for two players\nTwo mulligans included (1 pp)\nYour logo printed on event golf towel\nLogo on event page on our website\nLogo on printed sponsor event banner\nRecognition on social media channels\nLogo and link on our website for entire year\n\nChallenge Hole  Sponsor\n$500.00 \n\nHole signage recognition\nLogo on printed sponsor event banner\nRecognition on social media channels\nLogo and link on our website for entire year\n\nTrophy Sponsor\n$300.00 \n\nSponsor challenges\, longest drive\, closest to the pin awards: Hole signage recognition\nRecognition on social media channels\nLogo and link on our website for entire year\n\nWatering Hole Sponsor\n$300.00 \n\nHole signage recognition\nRecognition on social media channels\nLogo and link on our website for entire year\n\nTee/Hole Sponsor\n$250.00 \n\nHole signage recognition\nLogo and link on our website for entire year\n\nMilitary Sponsor\n$600.00 x 4 | $300.00 x 2 \n\nSponsor active duty military to participate in this event\nRecognition on social media channels\nLogo and link on our website for entire year\n\n\nPurchase Sponsorship\n \n« All Events \n  \n\nAdmiral Baker Golf Course \n2400 Admiral Baker RdSan Diego\,\nCA\n92124\nUnited States \n\n+ Google Map \n\n(619) 487-0090  \nView Venue Website \n\n \nOrganizer\nDee Harmes\n\n(760) 749-6555  \n\ndee.fsosp@gmail.com  \n\n\nAdd to calendar \n  \n\nGoogle Calendar\niCalendar\nOutlook 365\nOutlook Live\n\n\n\n\nDay at the Races \n\nOlde Fashioned Irish Wake and Half Way to St. Patrick’s Day Party \n\n\n  \n\n\nDate\n\nMM slash DD slash YYYY\n\nEntry Fees\nPlease set the Quantity number to you + the number of partners you are paying for\, then enter their information below. If only you\, select 1 in Quantity. Includes credit card convenience fee.QuantityOnline Purchase(Required)\n\nPrice:\n \n\nFull Name(Required)\nFirst\n\nLast\n\nEmail(Required)\n\nPhoneIf paying for only yourself\, who are your other foursome partners?If looking to be matched up\, leave blank. \nAdditional Partners In Your Foursome\nPartner 1Partner 2Partner 3 \n\nEvent Sponsorship\nAdd a sponsorship package to your Entry Fees. You will be contacted by the event chair to confirm and review your promotion.Tournament Sponsor Quantity\n\nPrice:\n$5\,000.00\n\nQuantity \nGolf Ball Sponsor Quantity\n\nPrice:\n$2\,000.00\n\nQuantity \nGolf Towel Sponsor Quantity\n\nPrice:\n$1\,500.00\n\nQuantity \nChallenge Hole Sponsor Quantity\n\nPrice:\n$500.00\n\nQuantity \nTrophy Sponsor Quantity\n\nPrice:\n$300.00\n\nQuantity \nWatering Hole Sponsor Quantity\n\nPrice:\n$300.00\n\nQuantity \nTee/Hole Sponsor Quantity\n\nPrice:\n$250.00\n\nQuantity \nActive Duty Military Sponsor (4 players) Quantity\n\nPrice:\n$600.00\n\nQuantity \nActive Duty Military Sponsor (2 players) Quantity\n\nPrice:\n$300.00\n\nQuantity \nNotes \nPayment\nTotal\n \n\nCredit Card(Required)\nCardholder Name\nCard Details\nCAPTCHA
URL:https://friendlysonssd.org/event/irish-open/
LOCATION:Admiral Baker Golf Course\, 2400 Admiral Baker Rd\, San Diego\, CA\, 92124\, United States
CATEGORIES:Fundraising
ATTACH;FMTTYPE=image/webp:https://friendlysonssd.org/wp-content/uploads/2025/05/irish-open.webp
ORGANIZER;CN="Dee Harmes":MAILTO:dee.fsosp@gmail.com
END:VEVENT
END:VCALENDAR