BEGIN:VCALENDAR
VERSION:2.0
PRODID:-//Friendly Sons Of St. Patrick : San Diego - ECPv6.15.20//NONSGML v1.0//EN
CALSCALE:GREGORIAN
METHOD:PUBLISH
X-WR-CALNAME:Friendly Sons Of St. Patrick : San Diego
X-ORIGINAL-URL:https://friendlysonssd.org
X-WR-CALDESC:Events for Friendly Sons Of St. Patrick : San Diego
REFRESH-INTERVAL;VALUE=DURATION:PT1H
X-Robots-Tag:noindex
X-PUBLISHED-TTL:PT1H
BEGIN:VTIMEZONE
TZID:America/Los_Angeles
BEGIN:DAYLIGHT
TZOFFSETFROM:-0800
TZOFFSETTO:-0700
TZNAME:PDT
DTSTART:20250309T100000
END:DAYLIGHT
BEGIN:STANDARD
TZOFFSETFROM:-0700
TZOFFSETTO:-0800
TZNAME:PST
DTSTART:20251102T090000
END:STANDARD
BEGIN:DAYLIGHT
TZOFFSETFROM:-0800
TZOFFSETTO:-0700
TZNAME:PDT
DTSTART:20260308T100000
END:DAYLIGHT
BEGIN:STANDARD
TZOFFSETFROM:-0700
TZOFFSETTO:-0800
TZNAME:PST
DTSTART:20261101T090000
END:STANDARD
BEGIN:DAYLIGHT
TZOFFSETFROM:-0800
TZOFFSETTO:-0700
TZNAME:PDT
DTSTART:20270314T100000
END:DAYLIGHT
BEGIN:STANDARD
TZOFFSETFROM:-0700
TZOFFSETTO:-0800
TZNAME:PST
DTSTART:20271107T090000
END:STANDARD
END:VTIMEZONE
BEGIN:VEVENT
DTSTART;TZID=America/Los_Angeles:20260801T174000
DTEND;TZID=America/Los_Angeles:20260801T203000
DTSTAMP:20260421T130947
CREATED:20260320T000005Z
LAST-MODIFIED:20260320T003326Z
UID:10000039-1785606000-1785616200@friendlysonssd.org
SUMMARY:Irish Heritage Padres Baseball Game
DESCRIPTION:Mt. Soledad National Veterans Memorial: Memorial Day Ceremony				\n				\n				\n				\n					\n		\n			May 25\n\n	\n\n	  @  \n\n\n11:00 am\n\n		\n\n\n\n	\n	  -  \n\n1:00 pm\n\n\n\n	\n				\n				\n				\n				\n					\nFree 				\n				\n				\n					\n				\n		\n					\n				\n				\n					\n	\n				\n				\n					\n				\n		\n					\n		\n				\n		\n				\n				\n									More information to come. The annual ceremony at Mt. Soledad National Veterans Memorial pays tribute to all veterans\, former Prisoners of War\, and those still listed as Missing in Action\, whose ultimate sacrifice reminds us of the true cost of freedom. Through remembrance and education\, we ensure that the legacy of our fallen service members lives on. They invite veterans\, families\, community members\, and all who wish to pay their respects to attend this solemn and meaningful ceremony. 								\n				\n				\n					\n				\n		\n					\n				\n				\n							\n			\n							\n					\n						\n		\n						\n				\n					\n				\n		\n					\n		\n					\n				\n				\n					\n				\n				\n	\n			\n		Mt. Soledad National Veterans Memorial			\n	\n	\n	\n\n6905 La Jolla Scenic S Dr.\n	\n		\n		La Jolla\,\n\n	CA\n\n	92037\n\n	United States\n\n\n\n\n	+ Google Map \n\n\n	\n					\n			(858) 459-2314			\n	 \n\n\n	\n	View Venue Website \n\n\n\n	\n\n\n\n		\n	\n				\n				\n					\n				\n		\n				\n				\n					\n	\n	Organizer\n			Mt. Soledad National Veterans Memorial	\n\n	\n	\n					\n			(858) 459-2314			\n	 \n\n\n	\n\n	Website:View Organizer Website \n\n\n	\n	Email:\n					\n			membership@soledadmemorial.org			\n	 \n\n\n\n				\n				\n				\n					\n				\n		\n					\n				\n				\n					\n	\n		\n\n	\n	Add to calendar	\n		\n	\n\n		\n			\n									\n	Google Calendar\n\n									\n	iCalendar\n\n									\n	Outlook 365\n\n									\n	Outlook Live\n\n							\n		\n\n		\n	\n\n				\n				\n					\n				\n		\n					\n		\n				\n				\n					\n	\n		\n\n				GAA West Coast Sevens	\n\n\n		\n	\n		Irish O’Pen Golf Tournament
URL:https://friendlysonssd.org/event/irish-heritage-padres-baseball-game-2026/
LOCATION:Petco Park\, 100 Park Blvd\, San Diego\, CA\, 92101\, United States
CATEGORIES:Social
ATTACH;FMTTYPE=image/webp:https://friendlysonssd.org/wp-content/uploads/2026/03/Padres-Irish-Heritage-Celebration-2026.webp
ORGANIZER;CN="Dee Harmes":MAILTO:dee.fsosp@gmail.com
END:VEVENT
BEGIN:VEVENT
DTSTART;TZID=America/Los_Angeles:20260814T160000
DTEND;TZID=America/Los_Angeles:20260814T190000
DTSTAMP:20260421T130947
CREATED:20260327T193438Z
LAST-MODIFIED:20260327T193526Z
UID:10000040-1786723200-1786734000@friendlysonssd.org
SUMMARY:Day at the Races
DESCRIPTION:Mt. Soledad National Veterans Memorial: Memorial Day Ceremony				\n				\n				\n				\n					\n		\n			May 25\n\n	\n\n	  @  \n\n\n11:00 am\n\n		\n\n\n\n	\n	  -  \n\n1:00 pm\n\n\n\n	\n				\n				\n				\n				\n					\nFree 				\n				\n				\n					\n				\n		\n					\n				\n				\n					\n	\n				\n				\n					\n				\n		\n					\n		\n				\n		\n				\n				\n									More information to come. The annual ceremony at Mt. Soledad National Veterans Memorial pays tribute to all veterans\, former Prisoners of War\, and those still listed as Missing in Action\, whose ultimate sacrifice reminds us of the true cost of freedom. Through remembrance and education\, we ensure that the legacy of our fallen service members lives on. They invite veterans\, families\, community members\, and all who wish to pay their respects to attend this solemn and meaningful ceremony. 								\n				\n				\n					\n				\n		\n					\n				\n				\n							\n			\n							\n					\n						\n		\n						\n				\n					\n				\n		\n					\n		\n					\n				\n				\n					\n				\n				\n	\n			\n		Mt. Soledad National Veterans Memorial			\n	\n	\n	\n\n6905 La Jolla Scenic S Dr.\n	\n		\n		La Jolla\,\n\n	CA\n\n	92037\n\n	United States\n\n\n\n\n	+ Google Map \n\n\n	\n					\n			(858) 459-2314			\n	 \n\n\n	\n	View Venue Website \n\n\n\n	\n\n\n\n		\n	\n				\n				\n					\n				\n		\n				\n				\n					\n	\n	Organizer\n			Mt. Soledad National Veterans Memorial	\n\n	\n	\n					\n			(858) 459-2314			\n	 \n\n\n	View Organizer Website \n\n\n	\n					\n			membership@soledadmemorial.org			\n	 \n\n\n\n				\n				\n				\n					\n				\n		\n					\n				\n				\n					\n	\n		\n\n	\n	Add to calendar	\n		\n	\n\n		\n			\n									\n	Google Calendar\n\n									\n	iCalendar\n\n									\n	Outlook 365\n\n									\n	Outlook Live\n\n							\n		\n\n		\n	\n\n				\n				\n					\n				\n		\n					\n		\n				\n				\n					\n	\n		\n\n				GAA West Coast Sevens	\n\n\n		\n	\n		Irish O’Pen Golf Tournament
URL:https://friendlysonssd.org/event/day-at-the-races-2026/
LOCATION:Del Mar Race Track\, 2260 Jimmy Durante Blvd\, Del Mar\, CA\, 92014\, United States
CATEGORIES:Social
ATTACH;FMTTYPE=image/webp:https://friendlysonssd.org/wp-content/uploads/2025/06/del-mar.webp
ORGANIZER;CN="Dee Harmes":MAILTO:dee.fsosp@gmail.com
END:VEVENT
END:VCALENDAR