BEGIN:VCALENDAR
VERSION:2.0
PRODID:-//Friendly Sons Of St. Patrick : San Diego - ECPv6.15.20//NONSGML v1.0//EN
CALSCALE:GREGORIAN
METHOD:PUBLISH
X-WR-CALNAME:Friendly Sons Of St. Patrick : San Diego
X-ORIGINAL-URL:https://friendlysonssd.org
X-WR-CALDESC:Events for Friendly Sons Of St. Patrick : San Diego
REFRESH-INTERVAL;VALUE=DURATION:PT1H
X-Robots-Tag:noindex
X-PUBLISHED-TTL:PT1H
BEGIN:VTIMEZONE
TZID:America/Los_Angeles
BEGIN:DAYLIGHT
TZOFFSETFROM:-0800
TZOFFSETTO:-0700
TZNAME:PDT
DTSTART:20230312T100000
END:DAYLIGHT
BEGIN:STANDARD
TZOFFSETFROM:-0700
TZOFFSETTO:-0800
TZNAME:PST
DTSTART:20231105T090000
END:STANDARD
BEGIN:DAYLIGHT
TZOFFSETFROM:-0800
TZOFFSETTO:-0700
TZNAME:PDT
DTSTART:20240310T100000
END:DAYLIGHT
BEGIN:STANDARD
TZOFFSETFROM:-0700
TZOFFSETTO:-0800
TZNAME:PST
DTSTART:20241103T090000
END:STANDARD
BEGIN:DAYLIGHT
TZOFFSETFROM:-0800
TZOFFSETTO:-0700
TZNAME:PDT
DTSTART:20250309T100000
END:DAYLIGHT
BEGIN:STANDARD
TZOFFSETFROM:-0700
TZOFFSETTO:-0800
TZNAME:PST
DTSTART:20251102T090000
END:STANDARD
BEGIN:DAYLIGHT
TZOFFSETFROM:-0800
TZOFFSETTO:-0700
TZNAME:PDT
DTSTART:20260308T100000
END:DAYLIGHT
BEGIN:STANDARD
TZOFFSETFROM:-0700
TZOFFSETTO:-0800
TZNAME:PST
DTSTART:20261101T090000
END:STANDARD
END:VTIMEZONE
BEGIN:VEVENT
DTSTART;TZID=America/Los_Angeles:20250317T160000
DTEND;TZID=America/Los_Angeles:20250317T190000
DTSTAMP:20260422T151355
CREATED:20241123T221555Z
LAST-MODIFIED:20250317T204622Z
UID:10000008-1742227200-1742238000@friendlysonssd.org
SUMMARY:St. Patrick’s Day Sing-Along
DESCRIPTION:Mt. Soledad National Veterans Memorial: Memorial Day Ceremony				\n				\n				\n				\n					\n		\n			May 25\n\n	\n\n	  @  \n\n\n11:00 am\n\n		\n\n\n\n	\n	  -  \n\n1:00 pm\n\n\n\n	\n				\n				\n				\n				\n					\nFree 				\n				\n				\n					\n				\n		\n					\n				\n				\n					\n	\n				\n				\n					\n				\n		\n					\n		\n				\n		\n				\n				\n									More information to come. The annual ceremony at Mt. Soledad National Veterans Memorial pays tribute to all veterans\, former Prisoners of War\, and those still listed as Missing in Action\, whose ultimate sacrifice reminds us of the true cost of freedom. Through remembrance and education\, we ensure that the legacy of our fallen service members lives on. They invite veterans\, families\, community members\, and all who wish to pay their respects to attend this solemn and meaningful ceremony. 								\n				\n				\n					\n				\n		\n					\n				\n				\n							\n			\n							\n					\n						\n		\n						\n				\n					\n				\n		\n					\n		\n					\n				\n				\n					\n				\n				\n	\n			\n		Mt. Soledad National Veterans Memorial			\n	\n	\n	\n\n6905 La Jolla Scenic S Dr.\n	\n		\n		La Jolla\,\n\n	CA\n\n	92037\n\n	United States\n\n\n\n\n	+ Google Map \n\n\n	\n					\n			(858) 459-2314			\n	 \n\n\n	\n	View Venue Website \n\n\n\n	\n\n\n\n		\n	\n				\n				\n					\n				\n		\n				\n				\n					\n	\n	Organizer\n			Mt. Soledad National Veterans Memorial	\n\n	\n	\n					\n			(858) 459-2314			\n	 \n\n\n	\n\n	Website:View Organizer Website \n\n\n	\n	Email:\n					\n			membership@soledadmemorial.org			\n	 \n\n\n\n				\n				\n				\n					\n				\n		\n					\n				\n				\n					\n	\n		\n\n	\n	Add to calendar	\n		\n	\n\n		\n			\n									\n	Google Calendar\n\n									\n	iCalendar\n\n									\n	Outlook 365\n\n									\n	Outlook Live\n\n							\n		\n\n		\n	\n\n				\n				\n					\n				\n		\n					\n		\n				\n				\n					\n	\n		\n\n				GAA West Coast Sevens	\n\n\n		\n	\n		Irish O’Pen Golf Tournament
URL:https://friendlysonssd.org/event/st-patricks-day-sing-along/
LOCATION:Venue 808\, 808 J St\, San Diego\, CA\, 92101\, United States
CATEGORIES:Social
ATTACH;FMTTYPE=image/webp:https://friendlysonssd.org/wp-content/uploads/2024/11/Singalong.webp
ORGANIZER;CN="Dee Harmes":MAILTO:dee.fsosp@gmail.com
END:VEVENT
BEGIN:VEVENT
DTSTART;TZID=America/Los_Angeles:20250316T110000
DTEND;TZID=America/Los_Angeles:20250316T160000
DTSTAMP:20260422T151355
CREATED:20250213T014308Z
LAST-MODIFIED:20250213T171037Z
UID:10000011-1742122800-1742140800@friendlysonssd.org
SUMMARY:2025 House Of Ireland Lawn Program
DESCRIPTION:Mt. Soledad National Veterans Memorial: Memorial Day Ceremony				\n				\n				\n				\n					\n		\n			May 25\n\n	\n\n	  @  \n\n\n11:00 am\n\n		\n\n\n\n	\n	  -  \n\n1:00 pm\n\n\n\n	\n				\n				\n				\n				\n					\nFree 				\n				\n				\n					\n				\n		\n					\n				\n				\n					\n	\n				\n				\n					\n				\n		\n					\n		\n				\n		\n				\n				\n									More information to come. The annual ceremony at Mt. Soledad National Veterans Memorial pays tribute to all veterans\, former Prisoners of War\, and those still listed as Missing in Action\, whose ultimate sacrifice reminds us of the true cost of freedom. Through remembrance and education\, we ensure that the legacy of our fallen service members lives on. They invite veterans\, families\, community members\, and all who wish to pay their respects to attend this solemn and meaningful ceremony. 								\n				\n				\n					\n				\n		\n					\n				\n				\n							\n			\n							\n					\n						\n		\n						\n				\n					\n				\n		\n					\n		\n					\n				\n				\n					\n				\n				\n	\n			\n		Mt. Soledad National Veterans Memorial			\n	\n	\n	\n\n6905 La Jolla Scenic S Dr.\n	\n		\n		La Jolla\,\n\n	CA\n\n	92037\n\n	United States\n\n\n\n\n	+ Google Map \n\n\n	\n					\n			(858) 459-2314			\n	 \n\n\n	\n	View Venue Website \n\n\n\n	\n\n\n\n		\n	\n				\n				\n					\n				\n		\n				\n				\n					\n	\n	Organizer\n			Mt. Soledad National Veterans Memorial	\n\n	\n	\n					\n			(858) 459-2314			\n	 \n\n\n	View Organizer Website \n\n\n	\n					\n			membership@soledadmemorial.org			\n	 \n\n\n\n				\n				\n				\n					\n				\n		\n					\n				\n				\n					\n	\n		\n\n	\n	Add to calendar	\n		\n	\n\n		\n			\n									\n	Google Calendar\n\n									\n	iCalendar\n\n									\n	Outlook 365\n\n									\n	Outlook Live\n\n							\n		\n\n		\n	\n\n				\n				\n					\n				\n		\n					\n		\n				\n				\n					\n	\n		\n\n				GAA West Coast Sevens	\n\n\n		\n	\n		Irish O’Pen Golf Tournament
URL:https://friendlysonssd.org/event/2025-house-of-ireland-lawn-program/
LOCATION:House Of Ireland\, 665 Pan American Plaza\, San Diego\, CA\, 92101\, United States
CATEGORIES:Fundraising
ATTACH;FMTTYPE=image/webp:https://friendlysonssd.org/wp-content/uploads/2025/02/2025-Lawn-Program.webp
ORGANIZER;CN="House of Ireland":MAILTO:info@houseofireland.org
END:VEVENT
BEGIN:VEVENT
DTSTART;TZID=America/Los_Angeles:20250315T090000
DTEND;TZID=America/Los_Angeles:20250315T180000
DTSTAMP:20260422T151355
CREATED:20241123T221454Z
LAST-MODIFIED:20250314T004851Z
UID:10000007-1742029200-1742061600@friendlysonssd.org
SUMMARY:St. Patrick’s Day Parade & Irish Festival
DESCRIPTION:Mt. Soledad National Veterans Memorial: Memorial Day Ceremony				\n				\n				\n				\n					\n		\n			May 25\n\n	\n\n	  @  \n\n\n11:00 am\n\n		\n\n\n\n	\n	  -  \n\n1:00 pm\n\n\n\n	\n				\n				\n				\n				\n					\nFree 				\n				\n				\n					\n				\n		\n					\n				\n				\n					\n	\n				\n				\n					\n				\n		\n					\n		\n				\n		\n				\n				\n									More information to come. The annual ceremony at Mt. Soledad National Veterans Memorial pays tribute to all veterans\, former Prisoners of War\, and those still listed as Missing in Action\, whose ultimate sacrifice reminds us of the true cost of freedom. Through remembrance and education\, we ensure that the legacy of our fallen service members lives on. They invite veterans\, families\, community members\, and all who wish to pay their respects to attend this solemn and meaningful ceremony. 								\n				\n				\n					\n				\n		\n					\n				\n				\n							\n			\n							\n					\n						\n		\n						\n				\n					\n				\n		\n					\n		\n					\n				\n				\n					\n				\n				\n	\n			\n		Mt. Soledad National Veterans Memorial			\n	\n	\n	\n\n6905 La Jolla Scenic S Dr.\n	\n		\n		La Jolla\,\n\n	CA\n\n	92037\n\n	United States\n\n\n\n\n	+ Google Map \n\n\n	\n					\n			(858) 459-2314			\n	 \n\n\n	\n	View Venue Website \n\n\n\n	\n\n\n\n		\n	\n				\n				\n					\n				\n		\n				\n				\n					\n	\n	Organizer\n			Mt. Soledad National Veterans Memorial	\n\n	\n	\n					\n			(858) 459-2314			\n	 \n\n\n	View Organizer Website \n\n\n	\n					\n			membership@soledadmemorial.org			\n	 \n\n\n\n				\n				\n				\n					\n				\n		\n					\n				\n				\n					\n	\n		\n\n	\n	Add to calendar	\n		\n	\n\n		\n			\n									\n	Google Calendar\n\n									\n	iCalendar\n\n									\n	Outlook 365\n\n									\n	Outlook Live\n\n							\n		\n\n		\n	\n\n				\n				\n					\n				\n		\n					\n		\n				\n				\n					\n	\n		\n\n				GAA West Coast Sevens	\n\n\n		\n	\n		Irish O’Pen Golf Tournament
URL:https://friendlysonssd.org/event/st-patricks-day-parade-irish-festival/
LOCATION:​Sixth Avenue & Laurel Street\, Sixth Ave & Laurel St\, San Diego\, CA\, 92103\, United States
CATEGORIES:Parade
ATTACH;FMTTYPE=image/webp:https://friendlysonssd.org/wp-content/uploads/2024/11/sp-pat.webp
ORGANIZER;CN="The Irish Congress of Southern California":MAILTO:IrishCongress317@gmail.com
END:VEVENT
BEGIN:VEVENT
DTSTART;TZID=America/Los_Angeles:20250314T173000
DTEND;TZID=America/Los_Angeles:20250314T230000
DTSTAMP:20260422T151355
CREATED:20241123T221408Z
LAST-MODIFIED:20260121T211330Z
UID:10000006-1741973400-1741993200@friendlysonssd.org
SUMMARY:Annual Black Tie Dinner
DESCRIPTION:Mt. Soledad National Veterans Memorial: Memorial Day Ceremony				\n				\n				\n				\n					\n		\n			May 25\n\n	\n\n	  @  \n\n\n11:00 am\n\n		\n\n\n\n	\n	  -  \n\n1:00 pm\n\n\n\n	\n				\n				\n				\n				\n					\nFree 				\n				\n				\n					\n				\n		\n					\n				\n				\n					\n	\n				\n				\n					\n				\n		\n					\n		\n				\n		\n				\n				\n									More information to come. The annual ceremony at Mt. Soledad National Veterans Memorial pays tribute to all veterans\, former Prisoners of War\, and those still listed as Missing in Action\, whose ultimate sacrifice reminds us of the true cost of freedom. Through remembrance and education\, we ensure that the legacy of our fallen service members lives on. They invite veterans\, families\, community members\, and all who wish to pay their respects to attend this solemn and meaningful ceremony. 								\n				\n				\n					\n				\n		\n					\n				\n				\n							\n			\n							\n					\n						\n		\n						\n				\n					\n				\n		\n					\n		\n					\n				\n				\n					\n				\n				\n	\n			\n		Mt. Soledad National Veterans Memorial			\n	\n	\n	\n\n6905 La Jolla Scenic S Dr.\n	\n		\n		La Jolla\,\n\n	CA\n\n	92037\n\n	United States\n\n\n\n\n	+ Google Map \n\n\n	\n					\n			(858) 459-2314			\n	 \n\n\n	\n	View Venue Website \n\n\n\n	\n\n\n\n		\n	\n				\n				\n					\n				\n		\n				\n				\n					\n	\n	Organizer\n			Mt. Soledad National Veterans Memorial	\n\n	\n	\n					\n			(858) 459-2314			\n	 \n\n\n	View Organizer Website \n\n\n	\n					\n			membership@soledadmemorial.org			\n	 \n\n\n\n				\n				\n				\n					\n				\n		\n					\n				\n				\n					\n	\n		\n\n	\n	Add to calendar	\n		\n	\n\n		\n			\n									\n	Google Calendar\n\n									\n	iCalendar\n\n									\n	Outlook 365\n\n									\n	Outlook Live\n\n							\n		\n\n		\n	\n\n				\n				\n					\n				\n		\n					\n		\n				\n				\n					\n	\n		\n\n				GAA West Coast Sevens	\n\n\n		\n	\n		Irish O’Pen Golf Tournament
URL:https://friendlysonssd.org/event/annual-black-tie-dinner/
LOCATION:Marina Village Seaside Room\, 1936 Quivira Way\, San Diego\, CA\, 92109\, United States
CATEGORIES:Social
ATTACH;FMTTYPE=image/webp:https://friendlysonssd.org/wp-content/uploads/2024/11/black-tie.webp
ORGANIZER;CN="Dee Harmes":MAILTO:dee.fsosp@gmail.com
END:VEVENT
BEGIN:VEVENT
DTSTART;TZID=America/Los_Angeles:20250208T183000
DTEND;TZID=America/Los_Angeles:20250208T220000
DTSTAMP:20260422T151355
CREATED:20250102T232442Z
LAST-MODIFIED:20250114T222933Z
UID:10000009-1739039400-1739052000@friendlysonssd.org
SUMMARY:The Miss Colleen Pageant
DESCRIPTION:Mt. Soledad National Veterans Memorial: Memorial Day Ceremony				\n				\n				\n				\n					\n		\n			May 25\n\n	\n\n	  @  \n\n\n11:00 am\n\n		\n\n\n\n	\n	  -  \n\n1:00 pm\n\n\n\n	\n				\n				\n				\n				\n					\nFree 				\n				\n				\n					\n				\n		\n					\n				\n				\n					\n	\n				\n				\n					\n				\n		\n					\n		\n				\n		\n				\n				\n									More information to come. The annual ceremony at Mt. Soledad National Veterans Memorial pays tribute to all veterans\, former Prisoners of War\, and those still listed as Missing in Action\, whose ultimate sacrifice reminds us of the true cost of freedom. Through remembrance and education\, we ensure that the legacy of our fallen service members lives on. They invite veterans\, families\, community members\, and all who wish to pay their respects to attend this solemn and meaningful ceremony. 								\n				\n				\n					\n				\n		\n					\n				\n				\n							\n			\n							\n					\n						\n		\n						\n				\n					\n				\n		\n					\n		\n					\n				\n				\n					\n				\n				\n	\n			\n		Mt. Soledad National Veterans Memorial			\n	\n	\n	\n\n6905 La Jolla Scenic S Dr.\n	\n		\n		La Jolla\,\n\n	CA\n\n	92037\n\n	United States\n\n\n\n\n	+ Google Map \n\n\n	\n					\n			(858) 459-2314			\n	 \n\n\n	\n	View Venue Website \n\n\n\n	\n\n\n\n		\n	\n				\n				\n					\n				\n		\n				\n				\n					\n	\n	Organizer\n			Mt. Soledad National Veterans Memorial	\n\n	\n	\n					\n			(858) 459-2314			\n	 \n\n\n	View Organizer Website \n\n\n	\n					\n			membership@soledadmemorial.org			\n	 \n\n\n\n				\n				\n				\n					\n				\n		\n					\n				\n				\n					\n	\n		\n\n	\n	Add to calendar	\n		\n	\n\n		\n			\n									\n	Google Calendar\n\n									\n	iCalendar\n\n									\n	Outlook 365\n\n									\n	Outlook Live\n\n							\n		\n\n		\n	\n\n				\n				\n					\n				\n		\n					\n		\n				\n				\n					\n	\n		\n\n				GAA West Coast Sevens	\n\n\n		\n	\n		Irish O’Pen Golf Tournament
URL:https://friendlysonssd.org/event/the-miss-colleen-pageant/
LOCATION:Hooleys Public House\, 2955 Jamacha Rd\, Suite 21A\, El Cajon\, CA\, 92019\, United States
CATEGORIES:Fundraising
ATTACH;FMTTYPE=image/webp:https://friendlysonssd.org/wp-content/uploads/2025/01/miss-colleen.webp
ORGANIZER;CN="The Irish Congress of Southern California":MAILTO:IrishCongress317@gmail.com
END:VEVENT
BEGIN:VEVENT
DTSTART;TZID=America/Los_Angeles:20250207T110000
DTEND;TZID=America/Los_Angeles:20250207T150000
DTSTAMP:20260422T151355
CREATED:20241123T221254Z
LAST-MODIFIED:20260129T204812Z
UID:10000005-1738926000-1738940400@friendlysonssd.org
SUMMARY:Annual Membership Luncheon
DESCRIPTION:Mt. Soledad National Veterans Memorial: Memorial Day Ceremony				\n				\n				\n				\n					\n		\n			May 25\n\n	\n\n	  @  \n\n\n11:00 am\n\n		\n\n\n\n	\n	  -  \n\n1:00 pm\n\n\n\n	\n				\n				\n				\n				\n					\nFree 				\n				\n				\n					\n				\n		\n					\n				\n				\n					\n	\n				\n				\n					\n				\n		\n					\n		\n				\n		\n				\n				\n									More information to come. The annual ceremony at Mt. Soledad National Veterans Memorial pays tribute to all veterans\, former Prisoners of War\, and those still listed as Missing in Action\, whose ultimate sacrifice reminds us of the true cost of freedom. Through remembrance and education\, we ensure that the legacy of our fallen service members lives on. They invite veterans\, families\, community members\, and all who wish to pay their respects to attend this solemn and meaningful ceremony. 								\n				\n				\n					\n				\n		\n					\n				\n				\n							\n			\n							\n					\n						\n		\n						\n				\n					\n				\n		\n					\n		\n					\n				\n				\n					\n				\n				\n	\n			\n		Mt. Soledad National Veterans Memorial			\n	\n	\n	\n\n6905 La Jolla Scenic S Dr.\n	\n		\n		La Jolla\,\n\n	CA\n\n	92037\n\n	United States\n\n\n\n\n	+ Google Map \n\n\n	\n					\n			(858) 459-2314			\n	 \n\n\n	\n	View Venue Website \n\n\n\n	\n\n\n\n		\n	\n				\n				\n					\n				\n		\n				\n				\n					\n	\n	Organizer\n			Mt. Soledad National Veterans Memorial	\n\n	\n	\n					\n			(858) 459-2314			\n	 \n\n\n	View Organizer Website \n\n\n	\n					\n			membership@soledadmemorial.org			\n	 \n\n\n\n				\n				\n				\n					\n				\n		\n					\n				\n				\n					\n	\n		\n\n	\n	Add to calendar	\n		\n	\n\n		\n			\n									\n	Google Calendar\n\n									\n	iCalendar\n\n									\n	Outlook 365\n\n									\n	Outlook Live\n\n							\n		\n\n		\n	\n\n				\n				\n					\n				\n		\n					\n		\n				\n				\n					\n	\n		\n\n				GAA West Coast Sevens	\n\n\n		\n	\n		Irish O’Pen Golf Tournament
URL:https://friendlysonssd.org/event/annual-member-luncheon/
LOCATION:Tom Ham’s Lighthouse\, 2150 Harbor Island Dr\, San Diego\, 92101\, United States
CATEGORIES:Social
ATTACH;FMTTYPE=image/webp:https://friendlysonssd.org/wp-content/uploads/2024/11/tom-ham.webp
ORGANIZER;CN="Dee Harmes":MAILTO:dee.fsosp@gmail.com
END:VEVENT
BEGIN:VEVENT
DTSTART;TZID=America/Los_Angeles:20250118T180000
DTEND;TZID=America/Los_Angeles:20250118T230000
DTSTAMP:20260422T151355
CREATED:20241123T221148Z
LAST-MODIFIED:20250114T230204Z
UID:10000004-1737223200-1737241200@friendlysonssd.org
SUMMARY:39th Annual Smilin’ Irishman Contest
DESCRIPTION:Mt. Soledad National Veterans Memorial: Memorial Day Ceremony				\n				\n				\n				\n					\n		\n			May 25\n\n	\n\n	  @  \n\n\n11:00 am\n\n		\n\n\n\n	\n	  -  \n\n1:00 pm\n\n\n\n	\n				\n				\n				\n				\n					\nFree 				\n				\n				\n					\n				\n		\n					\n				\n				\n					\n	\n				\n				\n					\n				\n		\n					\n		\n				\n		\n				\n				\n									More information to come. The annual ceremony at Mt. Soledad National Veterans Memorial pays tribute to all veterans\, former Prisoners of War\, and those still listed as Missing in Action\, whose ultimate sacrifice reminds us of the true cost of freedom. Through remembrance and education\, we ensure that the legacy of our fallen service members lives on. They invite veterans\, families\, community members\, and all who wish to pay their respects to attend this solemn and meaningful ceremony. 								\n				\n				\n					\n				\n		\n					\n				\n				\n							\n			\n							\n					\n						\n		\n						\n				\n					\n				\n		\n					\n		\n					\n				\n				\n					\n				\n				\n	\n			\n		Mt. Soledad National Veterans Memorial			\n	\n	\n	\n\n6905 La Jolla Scenic S Dr.\n	\n		\n		La Jolla\,\n\n	CA\n\n	92037\n\n	United States\n\n\n\n\n	+ Google Map \n\n\n	\n					\n			(858) 459-2314			\n	 \n\n\n	\n	View Venue Website \n\n\n\n	\n\n\n\n		\n	\n				\n				\n					\n				\n		\n				\n				\n					\n	\n	Organizer\n			Mt. Soledad National Veterans Memorial	\n\n	\n	\n					\n			(858) 459-2314			\n	 \n\n\n	View Organizer Website \n\n\n	\n					\n			membership@soledadmemorial.org			\n	 \n\n\n\n				\n				\n				\n					\n				\n		\n					\n				\n				\n					\n	\n		\n\n	\n	Add to calendar	\n		\n	\n\n		\n			\n									\n	Google Calendar\n\n									\n	iCalendar\n\n									\n	Outlook 365\n\n									\n	Outlook Live\n\n							\n		\n\n		\n	\n\n				\n				\n					\n				\n		\n					\n		\n				\n				\n					\n	\n		\n\n				GAA West Coast Sevens	\n\n\n		\n	\n		Irish O’Pen Golf Tournament
URL:https://friendlysonssd.org/event/annual-smilin-irishman-contest/
LOCATION:McGregor’s Bar and Grill\, 10475 San Diego Mission Rd\, San Diego\, 92108\, United States
CATEGORIES:Fundraising
ATTACH;FMTTYPE=image/jpeg:https://friendlysonssd.org/wp-content/uploads/2025/01/brawl.jpg
END:VEVENT
BEGIN:VEVENT
DTSTART;TZID=America/Los_Angeles:20241207T150000
DTEND;TZID=America/Los_Angeles:20241207T230000
DTSTAMP:20260422T151355
CREATED:20241123T204630Z
LAST-MODIFIED:20250114T222726Z
UID:10000003-1733583600-1733612400@friendlysonssd.org
SUMMARY:Ocean Beach Holiday Parade & Afterparty
DESCRIPTION:Mt. Soledad National Veterans Memorial: Memorial Day Ceremony				\n				\n				\n				\n					\n		\n			May 25\n\n	\n\n	  @  \n\n\n11:00 am\n\n		\n\n\n\n	\n	  -  \n\n1:00 pm\n\n\n\n	\n				\n				\n				\n				\n					\nFree 				\n				\n				\n					\n				\n		\n					\n				\n				\n					\n	\n				\n				\n					\n				\n		\n					\n		\n				\n		\n				\n				\n									More information to come. The annual ceremony at Mt. Soledad National Veterans Memorial pays tribute to all veterans\, former Prisoners of War\, and those still listed as Missing in Action\, whose ultimate sacrifice reminds us of the true cost of freedom. Through remembrance and education\, we ensure that the legacy of our fallen service members lives on. They invite veterans\, families\, community members\, and all who wish to pay their respects to attend this solemn and meaningful ceremony. 								\n				\n				\n					\n				\n		\n					\n				\n				\n							\n			\n							\n					\n						\n		\n						\n				\n					\n				\n		\n					\n		\n					\n				\n				\n					\n				\n				\n	\n			\n		Mt. Soledad National Veterans Memorial			\n	\n	\n	\n\n6905 La Jolla Scenic S Dr.\n	\n		\n		La Jolla\,\n\n	CA\n\n	92037\n\n	United States\n\n\n\n\n	+ Google Map \n\n\n	\n					\n			(858) 459-2314			\n	 \n\n\n	\n	View Venue Website \n\n\n\n	\n\n\n\n		\n	\n				\n				\n					\n				\n		\n				\n				\n					\n	\n	Organizer\n			Mt. Soledad National Veterans Memorial	\n\n	\n	\n					\n			(858) 459-2314			\n	 \n\n\n	View Organizer Website \n\n\n	\n					\n			membership@soledadmemorial.org			\n	 \n\n\n\n				\n				\n				\n					\n				\n		\n					\n				\n				\n					\n	\n		\n\n	\n	Add to calendar	\n		\n	\n\n		\n			\n									\n	Google Calendar\n\n									\n	iCalendar\n\n									\n	Outlook 365\n\n									\n	Outlook Live\n\n							\n		\n\n		\n	\n\n				\n				\n					\n				\n		\n					\n		\n				\n				\n					\n	\n		\n\n				GAA West Coast Sevens	\n\n\n		\n	\n		Irish O’Pen Golf Tournament
URL:https://friendlysonssd.org/event/ocean-beach-holiday-parade-afterparty-2/
LOCATION:OB Parade Staging Site\, 4713 Newport Avenue\, San Diego\, CA\, 92107\, United States
CATEGORIES:Parade
ATTACH;FMTTYPE=image/jpeg:https://friendlysonssd.org/wp-content/uploads/2024/11/OB-Holiday-Parade-Banner.jpg
ORGANIZER;CN="Dee Harmes":MAILTO:dee.fsosp@gmail.com
END:VEVENT
END:VCALENDAR