BEGIN:VCALENDAR
VERSION:2.0
PRODID:-//Friendly Sons Of St. Patrick : San Diego - ECPv6.15.20//NONSGML v1.0//EN
CALSCALE:GREGORIAN
METHOD:PUBLISH
X-WR-CALNAME:Friendly Sons Of St. Patrick : San Diego
X-ORIGINAL-URL:https://friendlysonssd.org
X-WR-CALDESC:Events for Friendly Sons Of St. Patrick : San Diego
REFRESH-INTERVAL;VALUE=DURATION:PT1H
X-Robots-Tag:noindex
X-PUBLISHED-TTL:PT1H
BEGIN:VTIMEZONE
TZID:America/Los_Angeles
BEGIN:DAYLIGHT
TZOFFSETFROM:-0800
TZOFFSETTO:-0700
TZNAME:PDT
DTSTART:20250309T100000
END:DAYLIGHT
BEGIN:STANDARD
TZOFFSETFROM:-0700
TZOFFSETTO:-0800
TZNAME:PST
DTSTART:20251102T090000
END:STANDARD
BEGIN:DAYLIGHT
TZOFFSETFROM:-0800
TZOFFSETTO:-0700
TZNAME:PDT
DTSTART:20260308T100000
END:DAYLIGHT
BEGIN:STANDARD
TZOFFSETFROM:-0700
TZOFFSETTO:-0800
TZNAME:PST
DTSTART:20261101T090000
END:STANDARD
BEGIN:DAYLIGHT
TZOFFSETFROM:-0800
TZOFFSETTO:-0700
TZNAME:PDT
DTSTART:20270314T100000
END:DAYLIGHT
BEGIN:STANDARD
TZOFFSETFROM:-0700
TZOFFSETTO:-0800
TZNAME:PST
DTSTART:20271107T090000
END:STANDARD
END:VTIMEZONE
BEGIN:VEVENT
DTSTART;TZID=America/Los_Angeles:20260228T183000
DTEND;TZID=America/Los_Angeles:20260228T220000
DTSTAMP:20260420T044013
CREATED:20260121T201128Z
LAST-MODIFIED:20260220T230435Z
UID:6603-1772303400-1772316000@friendlysonssd.org
SUMMARY:The Miss Colleen Pageant
DESCRIPTION:This event has passed. \n				\n				\n				\n				\n					\n	The Miss Colleen Pageant				\n				\n				\n				\n					\n		\n			February 28\n\n	\n\n	  @  \n\n\n6:30 pm\n\n		\n\n\n\n	\n	  -  \n\n10:00 pm\n\n\n\n	\n				\n				\n				\n					\n				\n		\n					\n				\n				\n					\n	\n				\n				\n					\n				\n		\n					\n				\n				\n									The Miss Colleen has been a cherished tradition of the St. Patrick’s Day Parade and Festival since 1981. This time-honored program celebrates the joy of Irish heritage\, the spirit of community involvement\, and the young women who proudly represent the San Diego Irish community. ​Each year\, the Miss Colleen Selection honors a young woman who embodies the values symbolized by the Claddagh: love\, friendship\, and loyalty. As Miss Colleen\, she serves as a role model for future generations and represents the Irish Congress of Southern California (ICSC) at the St. Patrick’s Day Parade and Festival\, as well as at other ICSC and Irish community events throughout the year. Miss Colleen also receives the opportunity to be reimbursed up to $1\,200 for airfare to Ireland\, allowing her to experience and deepen her appreciation of her Irish heritage firsthand. The selection process includes private\, off-stage interviews with judges\, followed by an on-stage introduction where contestants answer questions based on their submitted questionnaires. Family and friends are welcome to attend and show their support. For more information\, or to dowload an application:								\n				\n				\n				\n									\n					\n						\n									Click here\n					\n					\n				\n								\n				\n					\n				\n		\n					\n				\n				\n					\n	« All Events\n 				\n				\n					\n				\n		\n					\n				\n				\n							\n			\n							\n					\n						\n		\n						\n				\n					\n				\n		\n					\n		\n					\n				\n				\n					\n				\n				\n	\n			\n		Hooleys Public House			\n	\n	\n	\n\n2955 Jamacha Rd\, Suite 21A\n	\n		\n		El Cajon\,\n\n	CA\n\n	92019\n\n	United States\n\n\n\n\n	+ Google Map \n\n\n	\n					\n			(619) 670-7468			\n	 \n\n\n	\n	View Venue Website \n\n\n\n	\n\n\n\n		\n	\n				\n				\n					\n				\n		\n				\n				\n					\n	\n	Organizer\n			The Irish Congress of Southern California	\n\n	\n	\n\n	Phone:\n					\n						\n	 \n\n\n	\n	Email:\n					\n			IrishCongress317@gmail.com			\n	 \n\n\n\n				\n				\n				\n					\n				\n		\n					\n				\n				\n					\n	\n		\n\n	\n	Add to calendar	\n		\n	\n\n		\n			\n									\n	Google Calendar\n\n									\n	iCalendar\n\n									\n	Outlook 365\n\n									\n	Outlook Live\n\n							\n		\n\n		\n	\n\n				\n				\n					\n				\n		\n					\n		\n				\n				\n					\n	\n		\n\n				Annual Membership Luncheon	\n\n\n		\n	\n		Annual Black Tie Dinner
URL:https://friendlysonssd.org/event/the-miss-colleen-pageant-2026/
LOCATION:Hooleys Public House\, 2955 Jamacha Rd\, Suite 21A\, El Cajon\, CA\, 92019\, United States
CATEGORIES:Fundraising
ATTACH;FMTTYPE=image/webp:https://friendlysonssd.org/wp-content/uploads/2025/01/miss-colleen.webp
ORGANIZER;CN="The Irish Congress of Southern California":MAILTO:IrishCongress317@gmail.com
END:VEVENT
END:VCALENDAR