BEGIN:VCALENDAR
VERSION:2.0
PRODID:-//Friendly Sons Of St. Patrick : San Diego - ECPv6.15.20//NONSGML v1.0//EN
CALSCALE:GREGORIAN
METHOD:PUBLISH
X-WR-CALNAME:Friendly Sons Of St. Patrick : San Diego
X-ORIGINAL-URL:https://friendlysonssd.org
X-WR-CALDESC:Events for Friendly Sons Of St. Patrick : San Diego
REFRESH-INTERVAL;VALUE=DURATION:PT1H
X-Robots-Tag:noindex
X-PUBLISHED-TTL:PT1H
BEGIN:VTIMEZONE
TZID:America/Los_Angeles
BEGIN:DAYLIGHT
TZOFFSETFROM:-0800
TZOFFSETTO:-0700
TZNAME:PDT
DTSTART:20240310T100000
END:DAYLIGHT
BEGIN:STANDARD
TZOFFSETFROM:-0700
TZOFFSETTO:-0800
TZNAME:PST
DTSTART:20241103T090000
END:STANDARD
BEGIN:DAYLIGHT
TZOFFSETFROM:-0800
TZOFFSETTO:-0700
TZNAME:PDT
DTSTART:20250309T100000
END:DAYLIGHT
BEGIN:STANDARD
TZOFFSETFROM:-0700
TZOFFSETTO:-0800
TZNAME:PST
DTSTART:20251102T090000
END:STANDARD
BEGIN:DAYLIGHT
TZOFFSETFROM:-0800
TZOFFSETTO:-0700
TZNAME:PDT
DTSTART:20260308T100000
END:DAYLIGHT
BEGIN:STANDARD
TZOFFSETFROM:-0700
TZOFFSETTO:-0800
TZNAME:PST
DTSTART:20261101T090000
END:STANDARD
END:VTIMEZONE
BEGIN:VEVENT
DTSTART;TZID=America/Los_Angeles:20251108T110000
DTEND;TZID=America/Los_Angeles:20251108T123000
DTSTAMP:20260420T103831
CREATED:20250904T183644Z
LAST-MODIFIED:20251013T211108Z
UID:5875-1762599600-1762605000@friendlysonssd.org
SUMMARY:Mt. Soledad National Veterans Memorial – Veterans Day Ceremony
DESCRIPTION:This event has passed. \n				\n				\n				\n				\n					\n	Mt. Soledad National Veterans Memorial – Veterans Day Ceremony				\n				\n				\n				\n					\n		\n			November 8\n\n	\n\n	  @  \n\n\n11:00 am\n\n		\n\n\n\n	\n	  -  \n\n12:30 pm\n\n\n\n	\n				\n				\n				\n				\n					\nFree 				\n				\n				\n					\n				\n		\n					\n				\n				\n					\n	\n				\n				\n		\n		\n				\n				\n																														\n				\n				\n		\n				\n				\n									San Diego’s identity is forged by its profound connection to the U.S. Navy and U.S. Marine Corps. This Veterans Day\, we celebrate that bond with a ceremony dedicated to the 250th anniversaries of both branches. The event will not only honor all who have served but will also tell the story of two of our city’s oldest military installations:Naval Air Station North Island and Marine Corps Recruit Depot San Diego. Join us as we recognize two influential pioneers who represent those working monuments:Commander Theodore Gordon “Spuds” EllysonU.S. Navy\, the Navy’s first aviator Major General Joseph PendletonU.S. Marine Corps\, MCRD’s first commanding officer\, whose work built the foundation for a relationship that continues to define our community. 								\n				\n				\n				\n		\n		\n				\n				\n							\n			\n							\n					\n						\n		\n						\n				\n				\n		\n		\n				\n				\n					Calling All Sons!\n				\n				\n				\n				\n									The request is out for the Friendly Sons of St. Patrick to once again assist in the execution of this year’s ceremony. They expect 800-1000 people to attend. For you\, it’s an 8am to 1pm commitment: set-up\, break down\, crowd assistance\, etc. Provided: morning snacks\, coffees\, sodas and a lunch meal. Please let Everett know if you plan to help\, details will follow: 								\n				\n				\n				\n				\n								\n		        \n\n                \n                        \n                             \n                        \n                        Name(Required)\n                            \n                            \n                                                    First\n                                                    \n                                                \n                            \n                            \n                                                            Last\n                                                            \n                                                        \n                            \n                        Email\n                            \n                        PhoneI prefer to be contacted by(Required)\n			\n					\n					Email\n			\n			\n					\n					Phone\n			\n			\n					\n					Either\n			Best time to reach me\n								\n								Morning\n							\n								\n								Afternoon\n							\n								\n								Evening\n							MessageAnything you’d like to add?CAPTCHA\n          \n            \n            \n            \n            \n            \n            \n            \n            \n            \n            \n            \n            \n            \n        \n                        \n                        \n			\n\n            \n            				\n				\n				\n				\n					\n				\n		\n					\n				\n				\n					\n	« All Events\n 				\n				\n					\n				\n		\n					\n				\n				\n							\n			\n							\n					\n						\n		\n						\n				\n					\n				\n		\n					\n		\n					\n				\n				\n					\n				\n				\n	\n			\n		Mt. Soledad National Veterans Memorial			\n	\n	\n	\n\n6905 La Jolla Scenic S Dr.\n	\n		\n		La Jolla\,\n\n	CA\n\n	92037\n\n	United States\n\n\n\n\n	+ Google Map \n\n\n	\n					\n			(858) 459-2314			\n	 \n\n\n	\n	View Venue Website \n\n\n\n	\n\n\n\n		\n	\n				\n				\n					\n				\n		\n				\n				\n					\n	\n	Organizer\n			Mt. Soledad National Veterans Memorial	\n\n	\n	\n					\n			(858) 459-2314			\n	 \n\n\n	\n\n	Website:View Organizer Website \n\n\n	\n	Email:\n					\n			membership@soledadmemorial.org			\n	 \n\n\n\n				\n				\n				\n					\n				\n		\n					\n				\n				\n					\n	\n		\n\n	\n	Add to calendar	\n		\n	\n\n		\n			\n									\n	Google Calendar\n\n									\n	iCalendar\n\n									\n	Outlook 365\n\n									\n	Outlook Live\n\n							\n		\n\n		\n	\n\n				\n				\n					\n				\n		\n					\n		\n				\n				\n					\n	\n		\n\n				Olde Fashioned Irish Wake and Half Way to St. Patrick’s Day Party	\n\n\n		\n	\n		Veterans Day Parade
URL:https://friendlysonssd.org/event/mt-soledad-national-veterans-memorial-veterans-day-ceremony/
LOCATION:Mt. Soledad National Veterans Memorial\, 6905 La Jolla Scenic S Dr.\, La Jolla\, CA\, 92037\, United States
CATEGORIES:Memorial
ATTACH;FMTTYPE=image/webp:https://friendlysonssd.org/wp-content/uploads/2024/12/Memorial_at_dusk-1.webp
ORGANIZER;CN="Mt. Soledad National Veterans Memorial":MAILTO:membership@soledadmemorial.org
END:VEVENT
END:VCALENDAR