BEGIN:VCALENDAR
VERSION:2.0
PRODID:-//Friendly Sons Of St. Patrick : San Diego - ECPv6.15.20//NONSGML v1.0//EN
CALSCALE:GREGORIAN
METHOD:PUBLISH
X-WR-CALNAME:Friendly Sons Of St. Patrick : San Diego
X-ORIGINAL-URL:https://friendlysonssd.org
X-WR-CALDESC:Events for Friendly Sons Of St. Patrick : San Diego
REFRESH-INTERVAL;VALUE=DURATION:PT1H
X-Robots-Tag:noindex
X-PUBLISHED-TTL:PT1H
BEGIN:VTIMEZONE
TZID:America/Los_Angeles
BEGIN:DAYLIGHT
TZOFFSETFROM:-0800
TZOFFSETTO:-0700
TZNAME:PDT
DTSTART:20240310T100000
END:DAYLIGHT
BEGIN:STANDARD
TZOFFSETFROM:-0700
TZOFFSETTO:-0800
TZNAME:PST
DTSTART:20241103T090000
END:STANDARD
BEGIN:DAYLIGHT
TZOFFSETFROM:-0800
TZOFFSETTO:-0700
TZNAME:PDT
DTSTART:20250309T100000
END:DAYLIGHT
BEGIN:STANDARD
TZOFFSETFROM:-0700
TZOFFSETTO:-0800
TZNAME:PST
DTSTART:20251102T090000
END:STANDARD
BEGIN:DAYLIGHT
TZOFFSETFROM:-0800
TZOFFSETTO:-0700
TZNAME:PDT
DTSTART:20260308T100000
END:DAYLIGHT
BEGIN:STANDARD
TZOFFSETFROM:-0700
TZOFFSETTO:-0800
TZNAME:PST
DTSTART:20261101T090000
END:STANDARD
END:VTIMEZONE
BEGIN:VEVENT
DTSTART;TZID=America/Los_Angeles:20250314T173000
DTEND;TZID=America/Los_Angeles:20250314T230000
DTSTAMP:20260420T062040
CREATED:20241123T221408Z
LAST-MODIFIED:20260121T211330Z
UID:444-1741973400-1741993200@friendlysonssd.org
SUMMARY:Annual Black Tie Dinner
DESCRIPTION:This event has passed. \n				\n				\n				\n				\n					\n	Annual Black Tie Dinner				\n				\n				\n				\n					\n		\n			March 14\n\n	\n\n	  @  \n\n\n5:30 pm\n\n		\n\n\n\n	\n	  -  \n\n11:00 pm\n\n\n\n	\n				\n				\n				\n				\n					\n$99 – $150 				\n				\n				\n					\n				\n		\n					\n				\n				\n					\n	\n				\n				\n					\n				\n		\n				\n				\n					Shoulder to Shoulder : Celebrating the Brotherhood of the Sons				\n				\n				\n				\n									5:30pm Cocktail Reception  |  7pm Dinner Program\nSan Diego treasure Mairtin de Cogain is Master of Ceremonies								\n				\n				\n		\n					\n		\n				\n				\n									United States Marine CorpsColor Guard and the USMC BandLA Law Enforcement Emerald Society’s 15 piece Pipes & DrumsOpen/Hosted Bar with 2 Guiness stationsLarge Smoking Section / Cigars Provided								\n				\n				\n		\n				\n				\n									Live Music with\nAss Pocket Whiskey Fellas\nFree Parking (can leave overnight)\nDiscounted room rate at the Hyatt\nA van will shepherd those interested to The Field following the event								\n				\n				\n					\n				\n		\n					\n				\n				\n							\n			\n							\n					\n						\n		\n						\n				\n					\n				\n		\n					\n				\n				\n									Individual Tickets $99/pp\nAfter March 9th $125/pp  |  At Door $150/pp\nStandard Tables of Eight								\n				\n				\n				\n									\n					\n						\n									Credit Card Online Purchase\n					\n					\n				\n								\n				\n				\n				\n									Venmo: @FriendlySons-StPatrick : List all guests in the memo w/meal choicePay by Check: Fill out the form below and mail with your checkMake your check out to FSOSP and mail your reservation directly to:P.O. Box 1595 Valley Center\, CA 92082 Check must be received by March 10th\, 2025 								\n				\n					\n				\n		\n					\n				\n				\n					\n	« All Events\n 				\n				\n					\n				\n		\n					\n				\n				\n							\n			\n							\n					\n						\n		\n						\n				\n					\n				\n		\n					\n		\n					\n				\n				\n					\n				\n				\n	\n			\n		Marina Village Seaside Room			\n	\n	\n	\n\n1936 Quivira Way\n	\n		\n		San Diego\,\n\n	CA\n\n	92109\n\n	United States\n\n\n\n\n	+ Google Map \n\n\n	\n					\n			(619) 398-4840			\n	 \n\n\n	\n	View Venue Website \n\n\n\n	\n\n\n\n		\n	\n				\n				\n					\n				\n		\n				\n				\n					\n	\n	Organizer\n			Dee Harmes	\n\n	\n	\n\n	Phone:\n					\n			(760) 749-6555			\n	 \n\n\n	\n	Email:\n					\n			dee.fsosp@gmail.com			\n	 \n\n\n\n				\n				\n				\n					\n				\n		\n					\n				\n				\n					\n	\n		\n\n	\n	Add to calendar	\n		\n	\n\n		\n			\n									\n	Google Calendar\n\n									\n	iCalendar\n\n									\n	Outlook 365\n\n									\n	Outlook Live\n\n							\n		\n\n		\n	\n\n				\n				\n					\n				\n		\n					\n		\n				\n				\n					\n	\n		\n\n				The Miss Colleen Pageant	\n\n\n		\n	\n		St. Patrick’s Day Parade & Irish Festival			\n\n	\n\n				\n				\n				\n					\n				\n		\n					\n				\n				\n							\n			\n							\n					\n						\n		\n						\n				\n					\n				\n		\n					\n				\n				\n								\n		        \n\n                \n\n                        Date\n                            \n                            MM slash DD slash YYYY\n                        \n                        Online PurchaseSingle ticket: Please set the quantity number to you + the number of guests you are paying for\, then enter their information below. If only you\, select 1. Tables of 8 or 10: Please use the Single Ticket selection to fill your table. Gold & Silver Sponsorships: Please select the number of packages you wish to purchase\, then we will contact you for the names and meal choices of your table mates.Single TicketOnline Purchase*Credit card fee is added to the total\n					\n					\n						Price:\n							\n					\n					\n				Bronze SponsorBronze Sponsor*Credit card fee is added to the total\n					\n					\n						Price:\n							\n					\n					\n				Silver SponsorSilver Sponsor\n					\n					\n						Price:\n							\n					\n					\n				Gold SponsorGold Sponsor\n					\n					\n						Price:\n							\n					\n					\n				Full Name(Required)\n                            \n                            \n                                                    First\n                                                    \n                                                \n                            \n                            \n                                                            Last\n                                                            \n                                                        \n                            \n                        Email(Required)\n                            \n                        PhoneYour Meal Choice(Required)Please choose your meal preference.\n			\n					\n					Meat / Fish\n			\n			\n					\n					Vegetarian\n			Who do you want to sit with?Additional Guests at your TableGuest 1Guest 1 Meal Choice\n			\n					\n					Meat / Fish\n			\n			\n					\n					Vegetarian\n			Guest 2Guest 2 Meal Choice\n			\n					\n					Meat / Fish\n			\n			\n					\n					Vegetarian\n			Guest 3Guest 3 Meal Choice\n			\n					\n					Meat / Fish\n			\n			\n					\n					Vegetarian\n			Guest 4Guest 4 Meal Choice\n			\n					\n					Meat / Fish\n			\n			\n					\n					Vegetarian\n			Guest 5Guest 5 Meal Choice\n			\n					\n					Meat / Fish\n			\n			\n					\n					Vegetarian\n			Guest 6Guest 6 Meal Choice\n			\n					\n					Meat / Fish\n			\n			\n					\n					Vegetarian\n			Guest 7Guest 7 Meal Choice\n			\n					\n					Meat / Fish\n			\n			\n					\n					Vegetarian\n			Guest 8Guest 8 Meal Choice\n			\n					\n					Meat / Fish\n			\n			\n					\n					Vegetarian\n			Guest 9Guest 9 Meal Choice\n			\n					\n					Meat / Fish\n			\n			\n					\n					Vegetarian\n			PaymentAmount to be charged to your credit card:\n							\n						Credit Card(Required)\n					\n						Cardholder Name\n					\n					\n						Card Details\n					\n				CAPTCHA
URL:https://friendlysonssd.org/event/annual-black-tie-dinner/
LOCATION:Marina Village Seaside Room\, 1936 Quivira Way\, San Diego\, CA\, 92109\, United States
CATEGORIES:Social
ATTACH;FMTTYPE=image/webp:https://friendlysonssd.org/wp-content/uploads/2024/11/black-tie.webp
ORGANIZER;CN="Dee Harmes":MAILTO:dee.fsosp@gmail.com
END:VEVENT
END:VCALENDAR