BEGIN:VCALENDAR
VERSION:2.0
PRODID:-//Friendly Sons Of St. Patrick : San Diego - ECPv6.15.20//NONSGML v1.0//EN
CALSCALE:GREGORIAN
METHOD:PUBLISH
X-WR-CALNAME:Friendly Sons Of St. Patrick : San Diego
X-ORIGINAL-URL:https://friendlysonssd.org
X-WR-CALDESC:Events for Friendly Sons Of St. Patrick : San Diego
REFRESH-INTERVAL;VALUE=DURATION:PT1H
X-Robots-Tag:noindex
X-PUBLISHED-TTL:PT1H
BEGIN:VTIMEZONE
TZID:America/Los_Angeles
BEGIN:DAYLIGHT
TZOFFSETFROM:-0800
TZOFFSETTO:-0700
TZNAME:PDT
DTSTART:20250309T100000
END:DAYLIGHT
BEGIN:STANDARD
TZOFFSETFROM:-0700
TZOFFSETTO:-0800
TZNAME:PST
DTSTART:20251102T090000
END:STANDARD
BEGIN:DAYLIGHT
TZOFFSETFROM:-0800
TZOFFSETTO:-0700
TZNAME:PDT
DTSTART:20260308T100000
END:DAYLIGHT
BEGIN:STANDARD
TZOFFSETFROM:-0700
TZOFFSETTO:-0800
TZNAME:PST
DTSTART:20261101T090000
END:STANDARD
BEGIN:DAYLIGHT
TZOFFSETFROM:-0800
TZOFFSETTO:-0700
TZNAME:PDT
DTSTART:20270314T100000
END:DAYLIGHT
BEGIN:STANDARD
TZOFFSETFROM:-0700
TZOFFSETTO:-0800
TZNAME:PST
DTSTART:20271107T090000
END:STANDARD
END:VTIMEZONE
BEGIN:VEVENT
DTSTART;TZID=America/Los_Angeles:20260503T140000
DTEND;TZID=America/Los_Angeles:20260503T170000
DTSTAMP:20260421T030740
CREATED:20260408T001251Z
LAST-MODIFIED:20260408T014042Z
UID:7326-1777816800-1777827600@friendlysonssd.org
SUMMARY:17th of the Month Club : FSOSP & Rovers Hurling Happy Hour
DESCRIPTION:17th of the Month Club : FSOSP & Rovers Hurling Happy Hour				\n				\n				\n				\n					\n		\n			May 3\n\n	\n\n	  @  \n\n\n2:00 pm\n\n		\n\n\n\n	\n	  -  \n\n5:00 pm\n\n\n\n	\n				\n				\n				\n				\n					\nFree 				\n				\n				\n					\n				\n		\n					\n				\n				\n					\n	\n				\n				\n					\n				\n		\n					\n		\n				\n				\n					Join us for an afternoon of good fellowship and good beer...with the Rovers!				\n				\n				\n				\n									Meet new members\, visit with old friends\, have a beer with a hurler! This edition of the 17th of the Month Club meets at one of San Diego’s hottest new breweries\, Barley & Sword. Opened by U.S. Navy veteran Mike Howell\, Barley & Sword has been a standout by brewing Old World styles of beer from the U.K.\, Ireland and Germany. They are also award winners: Best of Craft Beer Awards\, California State Fair and San Diego County Fair Craft Brew Competition. View their current offerings here: barleyandsword.com/menu Join us for a beer (or two) with San Diego’s newest Hurling team\, the Rovers\, after their match at Southwestern College on Sunday\, May 3rd. 								\n				\n				\n				\n					New 2026 Members: FREE BEER from a Board Member\nDouble Bonus for ALL members: Bring a new member candidate and you’ll both get a FREE BEER				\n				\n				\n				\n									Simply find a Board Member BEFORE you order and let them know your eligibility…it’s that simple. A cold beer at a hot new brewery as a warm up for the West Coast Sevens on May 23! Join us! 								\n				\n				\n				\n																														\n				\n				\n		\n				\n				\n																\n															\n															\n				\n				\n				\n									Please RSVP so we can get a head count. Thanks.								\n				\n				\n				\n								\n		        \n\n                \n                        \n                             \n                        \n                        Name(Required)\n                            \n                            \n                                                    First\n                                                    \n                                                \n                            \n                            \n                                                            Last\n                                                            \n                                                        \n                            \n                        Email(Required)\n                            \n                        CAPTCHA\n          \n            \n            \n            \n            \n            \n            \n            \n            \n            \n            \n            \n            \n            \n        \n                        \n                        \n			\n\n            \n            				\n				\n				\n					\n				\n		\n					\n				\n				\n					\n	« All Events\n 				\n				\n					\n				\n		\n					\n				\n				\n							\n			\n							\n					\n						\n		\n						\n				\n					\n				\n		\n					\n		\n					\n				\n				\n					\n				\n				\n	\n			\n		Barley & Sword Brewing Company			\n	\n	\n	\n\n3052 El Cajon Blvd Ste 102\n	\n		\n		San Diego\,\n\n	CA\n\n	92104\n\n	United States\n\n\n\n\n	+ Google Map \n\n\n	\n					\n			(619) 633-7832			\n	 \n\n\n	\n	View Venue Website \n\n\n\n	\n\n\n\n		\n	\n				\n				\n					\n				\n		\n				\n				\n					\n	\n	Organizer\n			Dee Harmes	\n\n	\n	\n					\n			(760) 749-6555			\n	 \n\n\n	\n\n	Website: \n\n\n	\n	Email:\n					\n			dee.fsosp@gmail.com			\n	 \n\n\n\n				\n				\n				\n					\n				\n		\n					\n				\n				\n					\n	\n		\n\n	\n	Add to calendar	\n		\n	\n\n		\n			\n									\n	Google Calendar\n\n									\n	iCalendar\n\n									\n	Outlook 365\n\n									\n	Outlook Live\n\n							\n		\n\n		\n	\n\n				\n				\n					\n				\n		\n					\n		\n				\n				\n					\n	\n		\n\n				St. Patrick’s Day Sing-Along	\n\n\n		\n	\n		GAA West Coast Sevens
URL:https://friendlysonssd.org/event/17th-of-the-month-fsosp-rovers-hurling-happy-hour/
LOCATION:Barley & Sword Brewing Company\, 3052 El Cajon Blvd Ste 102\, San Diego\, CA\, 92104\, United States
CATEGORIES:Social
ATTACH;FMTTYPE=image/webp:https://friendlysonssd.org/wp-content/uploads/2025/05/17th-of-the-Month-banner-scaled.webp
ORGANIZER;CN="Dee Harmes":MAILTO:dee.fsosp@gmail.com
END:VEVENT
END:VCALENDAR